BEGIN:VCALENDAR
VERSION:2.0
PRODID:-//Seven Mountains - ECPv6.15.13//NONSGML v1.0//EN
CALSCALE:GREGORIAN
METHOD:PUBLISH
X-WR-CALNAME:Seven Mountains
X-ORIGINAL-URL:https://sevenmountainsaudubon.org
X-WR-CALDESC:Events for Seven Mountains
REFRESH-INTERVAL;VALUE=DURATION:PT1H
X-Robots-Tag:noindex
X-PUBLISHED-TTL:PT1H
BEGIN:VTIMEZONE
TZID:America/Halifax
BEGIN:DAYLIGHT
TZOFFSETFROM:-0400
TZOFFSETTO:-0300
TZNAME:ADT
DTSTART:20220313T060000
END:DAYLIGHT
BEGIN:STANDARD
TZOFFSETFROM:-0300
TZOFFSETTO:-0400
TZNAME:AST
DTSTART:20221106T050000
END:STANDARD
BEGIN:DAYLIGHT
TZOFFSETFROM:-0400
TZOFFSETTO:-0300
TZNAME:ADT
DTSTART:20230312T060000
END:DAYLIGHT
BEGIN:STANDARD
TZOFFSETFROM:-0300
TZOFFSETTO:-0400
TZNAME:AST
DTSTART:20231105T050000
END:STANDARD
BEGIN:DAYLIGHT
TZOFFSETFROM:-0400
TZOFFSETTO:-0300
TZNAME:ADT
DTSTART:20240310T060000
END:DAYLIGHT
BEGIN:STANDARD
TZOFFSETFROM:-0300
TZOFFSETTO:-0400
TZNAME:AST
DTSTART:20241103T050000
END:STANDARD
END:VTIMEZONE
BEGIN:VEVENT
DTSTART;TZID=America/Halifax:20230215T190000
DTEND;TZID=America/Halifax:20230215T210000
DTSTAMP:20260425T133700
CREATED:20230203T013422Z
LAST-MODIFIED:20230207T213519Z
UID:524-1676487600-1676494800@sevenmountainsaudubon.org
SUMMARY:February Monthly Program (Winter Raptor Survey)
DESCRIPTION:Wednesday\, February 15 at 7PM \nSeven Mountains Audubon’s Free Monthly Educational program will be held February 15th at 7pm at the Kelly Township Building\, 551 Zeigler Road in Lewisburg. Greg Grove will give a talk about the Winter Raptor Survey held annually around Pennsylvania. He will bring us up-to-date on raptors found in Central PA\, such as hawks\, eagles and falcons\, and discuss their relative abundance this year. This will be an in person lecture and also will be streamed on Seven Mountains Facebook page.
URL:https://sevenmountainsaudubon.org/event/february-monthly-program-winter-raptor-survey/
LOCATION:Kelly Township Building (551 Zeigler RD)\, 551 Zeigler RD\, Lewisburg\, PA\, 17837
CATEGORIES:Monthly Presentation
END:VEVENT
END:VCALENDAR