BEGIN:VCALENDAR
VERSION:2.0
PRODID:-//Seven Mountains - ECPv6.15.13//NONSGML v1.0//EN
CALSCALE:GREGORIAN
METHOD:PUBLISH
X-ORIGINAL-URL:https://sevenmountainsaudubon.org
X-WR-CALDESC:Events for Seven Mountains
REFRESH-INTERVAL;VALUE=DURATION:PT1H
X-Robots-Tag:noindex
X-PUBLISHED-TTL:PT1H
BEGIN:VTIMEZONE
TZID:America/Halifax
BEGIN:DAYLIGHT
TZOFFSETFROM:-0400
TZOFFSETTO:-0300
TZNAME:ADT
DTSTART:20230312T060000
END:DAYLIGHT
BEGIN:STANDARD
TZOFFSETFROM:-0300
TZOFFSETTO:-0400
TZNAME:AST
DTSTART:20231105T050000
END:STANDARD
BEGIN:DAYLIGHT
TZOFFSETFROM:-0400
TZOFFSETTO:-0300
TZNAME:ADT
DTSTART:20240310T060000
END:DAYLIGHT
BEGIN:STANDARD
TZOFFSETFROM:-0300
TZOFFSETTO:-0400
TZNAME:AST
DTSTART:20241103T050000
END:STANDARD
BEGIN:DAYLIGHT
TZOFFSETFROM:-0400
TZOFFSETTO:-0300
TZNAME:ADT
DTSTART:20250309T060000
END:DAYLIGHT
BEGIN:STANDARD
TZOFFSETFROM:-0300
TZOFFSETTO:-0400
TZNAME:AST
DTSTART:20251102T050000
END:STANDARD
END:VTIMEZONE
BEGIN:VEVENT
DTSTART;TZID=America/Halifax:20240217T080000
DTEND;TZID=America/Halifax:20240217T100000
DTSTAMP:20260424T222528
CREATED:20240216T191058Z
LAST-MODIFIED:20240216T191252Z
UID:618-1708156800-1708164000@sevenmountainsaudubon.org
SUMMARY:Great Backyard Bird Count - Group Birding Opportunity
DESCRIPTION:More information about the Great Background Bird Count (February 16-19).\n\nTo Participate with a group on this Saturday 2/17/24 – Everyone is invited to join John Slottterback for his annual Great Backyard Bird Count weekend walk through Catawissa on Saturday\, February 17th at 8:00AM\n\nMeet at the parking lot by the River Bridge\, Main Street and South 1st Street. We will wander along the Catawissa Creek\, cross rt 42 (Main Street)\, head to the Hollingshead Covered bridge and then hike back through town to check out the River from the Bridge. Be prepared for an invigorating and fun hike. With all the varied habitats almost any of our winter birds and birder friends are possibilities.\n 
URL:https://sevenmountainsaudubon.org/event/great-backyard-bird-count-link-and-discussion-below-for-details-and-group-birding-opportunity/
END:VEVENT
BEGIN:VEVENT
DTSTART;TZID=America/Halifax:20240217T130000
DTEND;TZID=America/Halifax:20240217T160000
DTSTAMP:20260424T222528
CREATED:20240201T124951Z
LAST-MODIFIED:20240201T124951Z
UID:611-1708174800-1708185600@sevenmountainsaudubon.org
SUMMARY:Bluebird Birdhouse Workshop
DESCRIPTION:Saturday\, February 17\, 2024 AT 1 PM – 4 PM EST \nRegister by February 10 by emailing Support@MontourPreserve.org. \nThe program will begin with an informative presentation on the natural history of bluebirds and their conservation. It will explain why putting up a bluebird nest box is so important and fun.\nAfter the presentation\, each child will receive a bluebird nest box kit. Following along step-by-step instructions\, each participant will assemble the kit into a bluebird box ready for placement. A handout will provide information on the proper placement\, monitoring and care of the box. All materials and tools necessary to build the box will be provided.\nNote: Spaces are limited (25) and pre-registration is required. Register by February 10 by emailing Support@MontourPreserve.org.\nPresented by: Ritchie and Nancy Heintzelman\nAdmission: Free (donations accepted) \n  \n374 Preserve Rd\nDanville\, PA 17821
URL:https://sevenmountainsaudubon.org/event/bluebird-birdhouse-workshop/
LOCATION:Montour Preserve\, 700 Preserve Rd\, Danville\, PA\, 17821\, United States
END:VEVENT
END:VCALENDAR