BEGIN:VCALENDAR
VERSION:2.0
PRODID:-//Seven Mountains - ECPv6.15.13//NONSGML v1.0//EN
CALSCALE:GREGORIAN
METHOD:PUBLISH
X-WR-CALNAME:Seven Mountains
X-ORIGINAL-URL:https://sevenmountainsaudubon.org
X-WR-CALDESC:Events for Seven Mountains
REFRESH-INTERVAL;VALUE=DURATION:PT1H
X-Robots-Tag:noindex
X-PUBLISHED-TTL:PT1H
BEGIN:VTIMEZONE
TZID:America/Halifax
BEGIN:DAYLIGHT
TZOFFSETFROM:-0400
TZOFFSETTO:-0300
TZNAME:ADT
DTSTART:20230312T060000
END:DAYLIGHT
BEGIN:STANDARD
TZOFFSETFROM:-0300
TZOFFSETTO:-0400
TZNAME:AST
DTSTART:20231105T050000
END:STANDARD
BEGIN:DAYLIGHT
TZOFFSETFROM:-0400
TZOFFSETTO:-0300
TZNAME:ADT
DTSTART:20240310T060000
END:DAYLIGHT
BEGIN:STANDARD
TZOFFSETFROM:-0300
TZOFFSETTO:-0400
TZNAME:AST
DTSTART:20241103T050000
END:STANDARD
BEGIN:DAYLIGHT
TZOFFSETFROM:-0400
TZOFFSETTO:-0300
TZNAME:ADT
DTSTART:20250309T060000
END:DAYLIGHT
BEGIN:STANDARD
TZOFFSETFROM:-0300
TZOFFSETTO:-0400
TZNAME:AST
DTSTART:20251102T050000
END:STANDARD
END:VTIMEZONE
BEGIN:VEVENT
DTSTART;TZID=America/Halifax:20240221T190000
DTEND;TZID=America/Halifax:20240221T210000
DTSTAMP:20260424T223136
CREATED:20240214T141138Z
LAST-MODIFIED:20240214T141444Z
UID:616-1708542000-1708549200@sevenmountainsaudubon.org
SUMMARY:March Educational Meeting (Zoom) - Palmyra Atoll by Matt Miller
DESCRIPTION:Wednesday\, February 21st at 7 p.m.\n\nPalmyra Atoll: A Paradise in the Pacific. The Palmyra Atoll is a cluster of islands 1\,000 miles south of Hawaii\, but unlike many Pacific islands\, it historically has never had human inhabitants. The site of a small naval base during WWII\, today it is jointly managed by The Nature Conservancy and the U.S. Fish and Wildlife Service. Take a virtual journey to Palmyra with Matt Miller\, editor of The Nature Conservancy’s Cool Green Science\, who visited the atoll as part of a fish research project in 2021. Palmyra is an atoll with immense seabird nesting colonies\, healthy coral reefs\, 12 land crab species including the gigantic coconut crab\, sea turtles\, sharks\, manta rays and more. This diversity was threatened by the presence of invasive rats\, eradicated in 2015. Matt will share stories of conservation and hope from Palmyra\, today one of the most pristine island ecosystems anywhere in the world.\n\n\nThe zoom link is: https://us02web.zoom.us/j/83765201186…\nThe meeting ID is: 837 6520 1186\nThe meeting PW is: 422079\n\n 
URL:https://sevenmountainsaudubon.org/event/march-educational-meeting-zoom-palmyra-atoll-by-matt-miller/
END:VEVENT
END:VCALENDAR