BEGIN:VCALENDAR
VERSION:2.0
PRODID:-//Seven Mountains - ECPv6.15.13//NONSGML v1.0//EN
CALSCALE:GREGORIAN
METHOD:PUBLISH
X-ORIGINAL-URL:https://sevenmountainsaudubon.org
X-WR-CALDESC:Events for Seven Mountains
REFRESH-INTERVAL;VALUE=DURATION:PT1H
X-Robots-Tag:noindex
X-PUBLISHED-TTL:PT1H
BEGIN:VTIMEZONE
TZID:America/Halifax
BEGIN:DAYLIGHT
TZOFFSETFROM:-0400
TZOFFSETTO:-0300
TZNAME:ADT
DTSTART:20230312T060000
END:DAYLIGHT
BEGIN:STANDARD
TZOFFSETFROM:-0300
TZOFFSETTO:-0400
TZNAME:AST
DTSTART:20231105T050000
END:STANDARD
BEGIN:DAYLIGHT
TZOFFSETFROM:-0400
TZOFFSETTO:-0300
TZNAME:ADT
DTSTART:20240310T060000
END:DAYLIGHT
BEGIN:STANDARD
TZOFFSETFROM:-0300
TZOFFSETTO:-0400
TZNAME:AST
DTSTART:20241103T050000
END:STANDARD
BEGIN:DAYLIGHT
TZOFFSETFROM:-0400
TZOFFSETTO:-0300
TZNAME:ADT
DTSTART:20250309T060000
END:DAYLIGHT
BEGIN:STANDARD
TZOFFSETFROM:-0300
TZOFFSETTO:-0400
TZNAME:AST
DTSTART:20251102T050000
END:STANDARD
END:VTIMEZONE
BEGIN:VEVENT
DTSTART;TZID=America/Halifax:20240320T190000
DTEND;TZID=America/Halifax:20240320T210000
DTSTAMP:20260424T210942
CREATED:20240320T145810Z
LAST-MODIFIED:20240320T145810Z
UID:623-1710961200-1710968400@sevenmountainsaudubon.org
SUMMARY:A Journey to the Galapagos Islands\, Educational Meeting\, presented by Jill Largent
DESCRIPTION:Wednesday\, March 20\, 2024 7-9 PM\n\n\n“The Galápagos Islands is a volcanic archipelago in the Pacific Ocean. It’s considered one of the world’s foremost destinations for wildlife-viewing. A province of Ecuador\, it lies about 1\,000km off its coast. Its isolated terrain shelters a diversity of plant and animal species\, many found nowhere else. Charles Darwin visited in 1835\, and his observation of Galápagos’ species later inspired his theory of evolution.” ― Google\nJill Largent graduated in 1974 from Rensselaer Polytechnic Institute and Albany Medical College with BS in Biomedicine and MD. She trained at Albany Medical Center Hospital in Pediatrics and Pediatric Nephrology. Joined faculty AMC and became Associate Professor in 1979. Joined Geisinger Medical Center in 1990. Retired 2004. Has had lifelong interest in nature. Was active in Seven Mountains Audubon for several years and now mostly hides at home. She is married to longtime Seven Mountains Audubon member John McCann.\n589 Fairground Rd\, Lewisburg\, PA 17837-8832
URL:https://sevenmountainsaudubon.org/event/a-journey-to-the-galapagos-islands-educational-meeting-presented-by-jill-largent/
LOCATION:East Buffalo Township Municipal Building\, 589 Fairground Road\, Lewisburg\, PA\, 7837\, United States
END:VEVENT
END:VCALENDAR