BEGIN:VCALENDAR
VERSION:2.0
PRODID:-//Seven Mountains - ECPv6.15.13//NONSGML v1.0//EN
CALSCALE:GREGORIAN
METHOD:PUBLISH
X-WR-CALNAME:Seven Mountains
X-ORIGINAL-URL:https://sevenmountainsaudubon.org
X-WR-CALDESC:Events for Seven Mountains
REFRESH-INTERVAL;VALUE=DURATION:PT1H
X-Robots-Tag:noindex
X-PUBLISHED-TTL:PT1H
BEGIN:VTIMEZONE
TZID:America/Halifax
BEGIN:DAYLIGHT
TZOFFSETFROM:-0400
TZOFFSETTO:-0300
TZNAME:ADT
DTSTART:20230312T060000
END:DAYLIGHT
BEGIN:STANDARD
TZOFFSETFROM:-0300
TZOFFSETTO:-0400
TZNAME:AST
DTSTART:20231105T050000
END:STANDARD
BEGIN:DAYLIGHT
TZOFFSETFROM:-0400
TZOFFSETTO:-0300
TZNAME:ADT
DTSTART:20240310T060000
END:DAYLIGHT
BEGIN:STANDARD
TZOFFSETFROM:-0300
TZOFFSETTO:-0400
TZNAME:AST
DTSTART:20241103T050000
END:STANDARD
BEGIN:DAYLIGHT
TZOFFSETFROM:-0400
TZOFFSETTO:-0300
TZNAME:ADT
DTSTART:20250309T060000
END:DAYLIGHT
BEGIN:STANDARD
TZOFFSETFROM:-0300
TZOFFSETTO:-0400
TZNAME:AST
DTSTART:20251102T050000
END:STANDARD
END:VTIMEZONE
BEGIN:VEVENT
DTSTART;TZID=America/Halifax:20240511T083000
DTEND;TZID=America/Halifax:20240511T120000
DTSTAMP:20260424T184720
CREATED:20240428T195759Z
LAST-MODIFIED:20240428T195759Z
UID:640-1715416200-1715428800@sevenmountainsaudubon.org
SUMMARY:Binocular Workshop for Youth Ages 7-12 - Montour Preserve
DESCRIPTION:Saturday\, May 11 2024\, 8:30-10 and 10:30-12 \nSign up here to register for Binocular Workshop for Youth\, ages 7-12. \n\nLearn to properly use Kowa brand Binoculars (provided) – – These are good quality binoculars that have a wide field of view and they were especially designed for youth\nPractice using the binoculars in the Visitor Center at the Bird Feeder Windows to observe and identify natural and artificial targets.\n\nWorkshop Leader: Bill Tyler – Current Chapter President Seven Mountains Audubon \n*Please plan to arrive at the Visitor Centert 10 minutes prior to the start time of your Session.
URL:https://sevenmountainsaudubon.org/event/binocular-workshop-for-youth-ages-7-12-montour-preserve/
LOCATION:Montour Preserve\, 700 Preserve Rd\, Danville\, PA\, 17821\, United States
END:VEVENT
END:VCALENDAR