BEGIN:VCALENDAR
VERSION:2.0
PRODID:-//Seven Mountains - ECPv6.15.13//NONSGML v1.0//EN
CALSCALE:GREGORIAN
METHOD:PUBLISH
X-ORIGINAL-URL:https://sevenmountainsaudubon.org
X-WR-CALDESC:Events for Seven Mountains
REFRESH-INTERVAL;VALUE=DURATION:PT1H
X-Robots-Tag:noindex
X-PUBLISHED-TTL:PT1H
BEGIN:VTIMEZONE
TZID:America/Halifax
BEGIN:DAYLIGHT
TZOFFSETFROM:-0400
TZOFFSETTO:-0300
TZNAME:ADT
DTSTART:20230312T060000
END:DAYLIGHT
BEGIN:STANDARD
TZOFFSETFROM:-0300
TZOFFSETTO:-0400
TZNAME:AST
DTSTART:20231105T050000
END:STANDARD
BEGIN:DAYLIGHT
TZOFFSETFROM:-0400
TZOFFSETTO:-0300
TZNAME:ADT
DTSTART:20240310T060000
END:DAYLIGHT
BEGIN:STANDARD
TZOFFSETFROM:-0300
TZOFFSETTO:-0400
TZNAME:AST
DTSTART:20241103T050000
END:STANDARD
BEGIN:DAYLIGHT
TZOFFSETFROM:-0400
TZOFFSETTO:-0300
TZNAME:ADT
DTSTART:20250309T060000
END:DAYLIGHT
BEGIN:STANDARD
TZOFFSETFROM:-0300
TZOFFSETTO:-0400
TZNAME:AST
DTSTART:20251102T050000
END:STANDARD
END:VTIMEZONE
BEGIN:VEVENT
DTSTART;TZID=America/Halifax:20240919T190000
DTEND;TZID=America/Halifax:20240919T210000
DTSTAMP:20260424T134052
CREATED:20240903T120331Z
LAST-MODIFIED:20240903T120331Z
UID:652-1726772400-1726779600@sevenmountainsaudubon.org
SUMMARY:Pennsylvania Bird Atlas
DESCRIPTION:September 18\, 2024 at 7:00PM \nJoe Gyekis will share his experience documenting breeding birds in central Pennsylvania\, from the purpose of mapping to the experience of watching courtship\, nest building\, incubation\, and feeding young. Known to many Seven Mountains Audubon members\, Joe is a health science professor at Penn State and a lifelong birder\, with special interests in local patch listing\, nocturnal flight calls\, and bird-window collisions. He is the Union County coordinator for the Third Pennsylvania Bird Atlas. \nThe presentation will also be streamed live on our Facebook Page. \nEast Buffalo Township Municipal Building\n589 Fairground Road\nLewisburg\, PA
URL:https://sevenmountainsaudubon.org/event/pennsylvania-bird-atlas/
END:VEVENT
END:VCALENDAR