BEGIN:VCALENDAR
VERSION:2.0
PRODID:-//Seven Mountains - ECPv6.15.13//NONSGML v1.0//EN
CALSCALE:GREGORIAN
METHOD:PUBLISH
X-WR-CALNAME:Seven Mountains
X-ORIGINAL-URL:https://sevenmountainsaudubon.org
X-WR-CALDESC:Events for Seven Mountains
REFRESH-INTERVAL;VALUE=DURATION:PT1H
X-Robots-Tag:noindex
X-PUBLISHED-TTL:PT1H
BEGIN:VTIMEZONE
TZID:America/Halifax
BEGIN:DAYLIGHT
TZOFFSETFROM:-0400
TZOFFSETTO:-0300
TZNAME:ADT
DTSTART:20240310T060000
END:DAYLIGHT
BEGIN:STANDARD
TZOFFSETFROM:-0300
TZOFFSETTO:-0400
TZNAME:AST
DTSTART:20241103T050000
END:STANDARD
BEGIN:DAYLIGHT
TZOFFSETFROM:-0400
TZOFFSETTO:-0300
TZNAME:ADT
DTSTART:20250309T060000
END:DAYLIGHT
BEGIN:STANDARD
TZOFFSETFROM:-0300
TZOFFSETTO:-0400
TZNAME:AST
DTSTART:20251102T050000
END:STANDARD
BEGIN:DAYLIGHT
TZOFFSETFROM:-0400
TZOFFSETTO:-0300
TZNAME:ADT
DTSTART:20260308T060000
END:DAYLIGHT
BEGIN:STANDARD
TZOFFSETFROM:-0300
TZOFFSETTO:-0400
TZNAME:AST
DTSTART:20261101T050000
END:STANDARD
END:VTIMEZONE
BEGIN:VEVENT
DTSTART;TZID=America/Halifax:20250301T080000
DTEND;TZID=America/Halifax:20250301T100000
DTSTAMP:20260424T053027
CREATED:20250226T182829Z
LAST-MODIFIED:20250226T182829Z
UID:698-1740816000-1740823200@sevenmountainsaudubon.org
SUMMARY:March First Saturday Bird Walk at Montour Preserve
DESCRIPTION:Saturday\, March 1\, 2025 at 8 AM \nWalk Leader is Bryce Perles. \nMontour Preserve – Lower Goose Cove Parking Lot\, where we usually meet.
URL:https://sevenmountainsaudubon.org/event/march-first-saturday-bird-walk-at-montour-preserve/
LOCATION:Montour Preserve\, 700 Preserve Rd\, Danville\, PA\, 17821\, United States
CATEGORIES:Bird Walk
END:VEVENT
END:VCALENDAR