BEGIN:VCALENDAR
VERSION:2.0
PRODID:-//Seven Mountains - ECPv6.15.13//NONSGML v1.0//EN
CALSCALE:GREGORIAN
METHOD:PUBLISH
X-ORIGINAL-URL:https://sevenmountainsaudubon.org
X-WR-CALDESC:Events for Seven Mountains
REFRESH-INTERVAL;VALUE=DURATION:PT1H
X-Robots-Tag:noindex
X-PUBLISHED-TTL:PT1H
BEGIN:VTIMEZONE
TZID:America/Halifax
BEGIN:DAYLIGHT
TZOFFSETFROM:-0400
TZOFFSETTO:-0300
TZNAME:ADT
DTSTART:20240310T060000
END:DAYLIGHT
BEGIN:STANDARD
TZOFFSETFROM:-0300
TZOFFSETTO:-0400
TZNAME:AST
DTSTART:20241103T050000
END:STANDARD
BEGIN:DAYLIGHT
TZOFFSETFROM:-0400
TZOFFSETTO:-0300
TZNAME:ADT
DTSTART:20250309T060000
END:DAYLIGHT
BEGIN:STANDARD
TZOFFSETFROM:-0300
TZOFFSETTO:-0400
TZNAME:AST
DTSTART:20251102T050000
END:STANDARD
BEGIN:DAYLIGHT
TZOFFSETFROM:-0400
TZOFFSETTO:-0300
TZNAME:ADT
DTSTART:20260308T060000
END:DAYLIGHT
BEGIN:STANDARD
TZOFFSETFROM:-0300
TZOFFSETTO:-0400
TZNAME:AST
DTSTART:20261101T050000
END:STANDARD
END:VTIMEZONE
BEGIN:VEVENT
DTSTART;TZID=America/Halifax:20250405T080000
DTEND;TZID=America/Halifax:20250405T100000
DTSTAMP:20260424T040544
CREATED:20250403T101539Z
LAST-MODIFIED:20250405T105743Z
UID:716-1743840000-1743847200@sevenmountainsaudubon.org
SUMMARY:Cancelled! First Saturday Bird Walk at Jeremy Napp Farm
DESCRIPTION:The bird walk scheduled for today has been canceled due to early steady rain. \nSaturday\, April 5 at 8AM \nSeven Mountains Audubon\, Monthly First Saturday Bird Walk. This is a new location hosted by Jeremy Napp and Juliana Brafa at Jeremy Napp’s Farm. The Walk Leader is Jessica Sauder. \n2050 Felmey Rd\, Winfield\, PA 17889\, United States
URL:https://sevenmountainsaudubon.org/event/first-saturday-bird-walk-at-jeremy-napp-farm/
END:VEVENT
END:VCALENDAR