BEGIN:VCALENDAR
VERSION:2.0
PRODID:-//Seven Mountains - ECPv6.15.13//NONSGML v1.0//EN
CALSCALE:GREGORIAN
METHOD:PUBLISH
X-WR-CALNAME:Seven Mountains
X-ORIGINAL-URL:https://sevenmountainsaudubon.org
X-WR-CALDESC:Events for Seven Mountains
REFRESH-INTERVAL;VALUE=DURATION:PT1H
X-Robots-Tag:noindex
X-PUBLISHED-TTL:PT1H
BEGIN:VTIMEZONE
TZID:America/Halifax
BEGIN:DAYLIGHT
TZOFFSETFROM:-0400
TZOFFSETTO:-0300
TZNAME:ADT
DTSTART:20240310T060000
END:DAYLIGHT
BEGIN:STANDARD
TZOFFSETFROM:-0300
TZOFFSETTO:-0400
TZNAME:AST
DTSTART:20241103T050000
END:STANDARD
BEGIN:DAYLIGHT
TZOFFSETFROM:-0400
TZOFFSETTO:-0300
TZNAME:ADT
DTSTART:20250309T060000
END:DAYLIGHT
BEGIN:STANDARD
TZOFFSETFROM:-0300
TZOFFSETTO:-0400
TZNAME:AST
DTSTART:20251102T050000
END:STANDARD
BEGIN:DAYLIGHT
TZOFFSETFROM:-0400
TZOFFSETTO:-0300
TZNAME:ADT
DTSTART:20260308T060000
END:DAYLIGHT
BEGIN:STANDARD
TZOFFSETFROM:-0300
TZOFFSETTO:-0400
TZNAME:AST
DTSTART:20261101T050000
END:STANDARD
END:VTIMEZONE
BEGIN:VEVENT
DTSTART;TZID=America/Halifax:20250607T083000
DTEND;TZID=America/Halifax:20250607T110000
DTSTAMP:20260424T011931
CREATED:20250605T032407Z
LAST-MODIFIED:20250605T050724Z
UID:738-1749285000-1749294000@sevenmountainsaudubon.org
SUMMARY:First Saturday Bird Walk for June - RB Winter State Park. Joe Gyekis is the Walk Leader.
DESCRIPTION:Saturday\, June 7\, 8:30-11AM \nMeet in the Parking Lot near the Environmental Learning Center (see map)GPS Coordinates: 40°59’39.7″N 77°11’24.0″W
URL:https://sevenmountainsaudubon.org/event/june-first-saturday-bird-walk-rb-winter-state-park-joe-gyekis-is-the-walk-leader/
CATEGORIES:Bird Walk
END:VEVENT
END:VCALENDAR