BEGIN:VCALENDAR
VERSION:2.0
PRODID:-//Seven Mountains - ECPv6.15.13//NONSGML v1.0//EN
CALSCALE:GREGORIAN
METHOD:PUBLISH
X-ORIGINAL-URL:https://sevenmountainsaudubon.org
X-WR-CALDESC:Events for Seven Mountains
REFRESH-INTERVAL;VALUE=DURATION:PT1H
X-Robots-Tag:noindex
X-PUBLISHED-TTL:PT1H
BEGIN:VTIMEZONE
TZID:America/Halifax
BEGIN:DAYLIGHT
TZOFFSETFROM:-0400
TZOFFSETTO:-0300
TZNAME:ADT
DTSTART:20240310T060000
END:DAYLIGHT
BEGIN:STANDARD
TZOFFSETFROM:-0300
TZOFFSETTO:-0400
TZNAME:AST
DTSTART:20241103T050000
END:STANDARD
BEGIN:DAYLIGHT
TZOFFSETFROM:-0400
TZOFFSETTO:-0300
TZNAME:ADT
DTSTART:20250309T060000
END:DAYLIGHT
BEGIN:STANDARD
TZOFFSETFROM:-0300
TZOFFSETTO:-0400
TZNAME:AST
DTSTART:20251102T050000
END:STANDARD
BEGIN:DAYLIGHT
TZOFFSETFROM:-0400
TZOFFSETTO:-0300
TZNAME:ADT
DTSTART:20260308T060000
END:DAYLIGHT
BEGIN:STANDARD
TZOFFSETFROM:-0300
TZOFFSETTO:-0400
TZNAME:AST
DTSTART:20261101T050000
END:STANDARD
END:VTIMEZONE
BEGIN:VEVENT
DTSTART;TZID=America/Halifax:20250917T190000
DTEND;TZID=America/Halifax:20250917T210000
DTSTAMP:20260423T205452
CREATED:20250117T234403Z
LAST-MODIFIED:20250117T234403Z
UID:689-1758135600-1758142800@sevenmountainsaudubon.org
SUMMARY:Winging It Near Water
DESCRIPTION:Wednesday\, September 17 at 7PM\n“Winging It Near Water.” With a photographic presentation\, Linette Mansberger will showcase birds that are found near various water habitats in south central Pennsylvania. She will teach about the families of birds that frequent wetlands\, ponds\, streams\, etc.\, and some of the birds’ unique characteristics. Also included will be a few remarkable birds from water environs around the world.\n\nJoin us at our meeting location\, the East Buffalo Township building\, 589 Fairground Road\, Lewisburg.
URL:https://sevenmountainsaudubon.org/event/winging-it-near-water/
END:VEVENT
END:VCALENDAR