BEGIN:VCALENDAR
VERSION:2.0
PRODID:-//Seven Mountains - ECPv6.15.13//NONSGML v1.0//EN
CALSCALE:GREGORIAN
METHOD:PUBLISH
X-ORIGINAL-URL:https://sevenmountainsaudubon.org
X-WR-CALDESC:Events for Seven Mountains
REFRESH-INTERVAL;VALUE=DURATION:PT1H
X-Robots-Tag:noindex
X-PUBLISHED-TTL:PT1H
BEGIN:VTIMEZONE
TZID:America/Halifax
BEGIN:DAYLIGHT
TZOFFSETFROM:-0400
TZOFFSETTO:-0300
TZNAME:ADT
DTSTART:20240310T060000
END:DAYLIGHT
BEGIN:STANDARD
TZOFFSETFROM:-0300
TZOFFSETTO:-0400
TZNAME:AST
DTSTART:20241103T050000
END:STANDARD
BEGIN:DAYLIGHT
TZOFFSETFROM:-0400
TZOFFSETTO:-0300
TZNAME:ADT
DTSTART:20250309T060000
END:DAYLIGHT
BEGIN:STANDARD
TZOFFSETFROM:-0300
TZOFFSETTO:-0400
TZNAME:AST
DTSTART:20251102T050000
END:STANDARD
BEGIN:DAYLIGHT
TZOFFSETFROM:-0400
TZOFFSETTO:-0300
TZNAME:ADT
DTSTART:20260308T060000
END:DAYLIGHT
BEGIN:STANDARD
TZOFFSETFROM:-0300
TZOFFSETTO:-0400
TZNAME:AST
DTSTART:20261101T050000
END:STANDARD
END:VTIMEZONE
BEGIN:VEVENT
DTSTART;TZID=America/Halifax:20250930T193000
DTEND;TZID=America/Halifax:20250930T210000
DTSTAMP:20260423T193721
CREATED:20250929T160137Z
LAST-MODIFIED:20250929T160137Z
UID:857-1759260600-1759266000@sevenmountainsaudubon.org
SUMMARY:Tuesday\, 9/30/25\, 7:30 p.m. National Geographic Live: "From Roots to Canopy"\, Weis Center\, Bucknell
DESCRIPTION:National Geographic Live:\nFrom Roots to Canopy\nTuesday\, Sept. 30\, 7:30 p.m.\nNational Geographic Explorer at Large Nalini Nadkarni\ninterweaves her research on rainforest canopy biota with\ninnovative public engagement. A biology professor at the\nUniversity of Utah\, she has written 150 scientific papers and\nbooks\, and has presented new insights on the importance of\ncanopy plants in ecosystem processes — and the effects of\nhuman activities on forest diversity and function. There will be a small local Expo in the Weis Center Atrium from 6:20PM – 7:30 PM. Susquehanna Greenway Partnership\, Middle Susquehanna Riverkeeper\, Seven Mountains Audubon\, Linn Conservancy\, and DCNR/R.B. Winter State Park. are participating.
URL:https://sevenmountainsaudubon.org/event/tuesday-9-30-25-730-p-m-national-geographic-live-from-roots-to-canopy-weis-center-bucknell/
END:VEVENT
END:VCALENDAR