BEGIN:VCALENDAR
VERSION:2.0
PRODID:-//Seven Mountains - ECPv6.15.13//NONSGML v1.0//EN
CALSCALE:GREGORIAN
METHOD:PUBLISH
X-WR-CALNAME:Seven Mountains
X-ORIGINAL-URL:https://sevenmountainsaudubon.org
X-WR-CALDESC:Events for Seven Mountains
REFRESH-INTERVAL;VALUE=DURATION:PT1H
X-Robots-Tag:noindex
X-PUBLISHED-TTL:PT1H
BEGIN:VTIMEZONE
TZID:America/Halifax
BEGIN:DAYLIGHT
TZOFFSETFROM:-0400
TZOFFSETTO:-0300
TZNAME:ADT
DTSTART:20240310T060000
END:DAYLIGHT
BEGIN:STANDARD
TZOFFSETFROM:-0300
TZOFFSETTO:-0400
TZNAME:AST
DTSTART:20241103T050000
END:STANDARD
BEGIN:DAYLIGHT
TZOFFSETFROM:-0400
TZOFFSETTO:-0300
TZNAME:ADT
DTSTART:20250309T060000
END:DAYLIGHT
BEGIN:STANDARD
TZOFFSETFROM:-0300
TZOFFSETTO:-0400
TZNAME:AST
DTSTART:20251102T050000
END:STANDARD
BEGIN:DAYLIGHT
TZOFFSETFROM:-0400
TZOFFSETTO:-0300
TZNAME:ADT
DTSTART:20260308T060000
END:DAYLIGHT
BEGIN:STANDARD
TZOFFSETFROM:-0300
TZOFFSETTO:-0400
TZNAME:AST
DTSTART:20261101T050000
END:STANDARD
END:VTIMEZONE
BEGIN:VEVENT
DTSTART;TZID=America/Halifax:20251101T080000
DTEND;TZID=America/Halifax:20251101T100000
DTSTAMP:20260423T181539
CREATED:20251021T190500Z
LAST-MODIFIED:20251021T190500Z
UID:872-1761984000-1761991200@sevenmountainsaudubon.org
SUMMARY:Saturday 11/1/25 - First Saturday Bird Walk \, Montour Preserve
DESCRIPTION:Saturday\, November 1 at 8AM \nCourt Harding is the walk leader. \nNOTE THE LOCATION CHANGE DUE TO HUNTING SEASON. Meet in the usual location i.e. the lower Goose Cove Parking Lot.
URL:https://sevenmountainsaudubon.org/event/saturday-11-1-25-first-saturday-bird-walk-montour-preserve/
END:VEVENT
END:VCALENDAR