BEGIN:VCALENDAR
VERSION:2.0
PRODID:-//Seven Mountains - ECPv6.15.13//NONSGML v1.0//EN
CALSCALE:GREGORIAN
METHOD:PUBLISH
X-WR-CALNAME:Seven Mountains
X-ORIGINAL-URL:https://sevenmountainsaudubon.org
X-WR-CALDESC:Events for Seven Mountains
REFRESH-INTERVAL;VALUE=DURATION:PT1H
X-Robots-Tag:noindex
X-PUBLISHED-TTL:PT1H
BEGIN:VTIMEZONE
TZID:America/Halifax
BEGIN:DAYLIGHT
TZOFFSETFROM:-0400
TZOFFSETTO:-0300
TZNAME:ADT
DTSTART:20240310T060000
END:DAYLIGHT
BEGIN:STANDARD
TZOFFSETFROM:-0300
TZOFFSETTO:-0400
TZNAME:AST
DTSTART:20241103T050000
END:STANDARD
BEGIN:DAYLIGHT
TZOFFSETFROM:-0400
TZOFFSETTO:-0300
TZNAME:ADT
DTSTART:20250309T060000
END:DAYLIGHT
BEGIN:STANDARD
TZOFFSETFROM:-0300
TZOFFSETTO:-0400
TZNAME:AST
DTSTART:20251102T050000
END:STANDARD
BEGIN:DAYLIGHT
TZOFFSETFROM:-0400
TZOFFSETTO:-0300
TZNAME:ADT
DTSTART:20260308T060000
END:DAYLIGHT
BEGIN:STANDARD
TZOFFSETFROM:-0300
TZOFFSETTO:-0400
TZNAME:AST
DTSTART:20261101T050000
END:STANDARD
END:VTIMEZONE
BEGIN:VEVENT
DTSTART;TZID=America/Halifax:20251119T190000
DTEND;TZID=America/Halifax:20251119T210000
DTSTAMP:20260423T181539
CREATED:20251105T180842Z
LAST-MODIFIED:20251120T173540Z
UID:883-1763578800-1763586000@sevenmountainsaudubon.org
SUMMARY:Celebrity Shorebirds at Presque Isle by Mary Birdsong - 11/19/2025 Monthly Educational Meeting (Zoom)
DESCRIPTION:Nov 19\, 2025 – 7:00 PM \nCelebrity Shorebirds: Piping Plovers and Common Terns at Presque Isle after a 60-year absence\, Piping Plovers are now once again calling Gull Point at Presque Isle State Park their summer home. Nesting there since 2017\, they have contributed to the endangered Great Lakes population in a meaningful way and afforded us the opportunity to learn more about these charismatic shorebirds. They have also provided moments of deep sadness as well as sublime joy. Mary Birdsong\, co-founder and Lead Shorebird Monitor for Erie Bird Observatory\, will provide an overview of Erie Bird Observatory programs as well as information about the Great Lakes population of Piping Plovers\, including highlights from the last nine years of monitoring. She will also talk about Common Terns\, who have also attempted to nest at Gull point and were finally successful.  \n  \nClick here for the recording of this presentation. \nRegister now for the Zoom Link.
URL:https://sevenmountainsaudubon.org/event/celebrity-shorebirds-at-presque-isle-by-mary-birdsong-11-19-2025-monthly-educational-meeting-zoom/
CATEGORIES:Monthly Presentation
END:VEVENT
END:VCALENDAR