BEGIN:VCALENDAR
VERSION:2.0
PRODID:-//Seven Mountains - ECPv6.15.13//NONSGML v1.0//EN
CALSCALE:GREGORIAN
METHOD:PUBLISH
X-ORIGINAL-URL:https://sevenmountainsaudubon.org
X-WR-CALDESC:Events for Seven Mountains
REFRESH-INTERVAL;VALUE=DURATION:PT1H
X-Robots-Tag:noindex
X-PUBLISHED-TTL:PT1H
BEGIN:VTIMEZONE
TZID:America/Halifax
BEGIN:DAYLIGHT
TZOFFSETFROM:-0400
TZOFFSETTO:-0300
TZNAME:ADT
DTSTART:20210314T060000
END:DAYLIGHT
BEGIN:STANDARD
TZOFFSETFROM:-0300
TZOFFSETTO:-0400
TZNAME:AST
DTSTART:20211107T050000
END:STANDARD
BEGIN:DAYLIGHT
TZOFFSETFROM:-0400
TZOFFSETTO:-0300
TZNAME:ADT
DTSTART:20220313T060000
END:DAYLIGHT
BEGIN:STANDARD
TZOFFSETFROM:-0300
TZOFFSETTO:-0400
TZNAME:AST
DTSTART:20221106T050000
END:STANDARD
BEGIN:DAYLIGHT
TZOFFSETFROM:-0400
TZOFFSETTO:-0300
TZNAME:ADT
DTSTART:20230312T060000
END:DAYLIGHT
BEGIN:STANDARD
TZOFFSETFROM:-0300
TZOFFSETTO:-0400
TZNAME:AST
DTSTART:20231105T050000
END:STANDARD
END:VTIMEZONE
BEGIN:VEVENT
DTSTART;TZID=America/Halifax:20220702T080000
DTEND;TZID=America/Halifax:20220702T103000
DTSTAMP:20260425T225018
CREATED:20220625T181724Z
LAST-MODIFIED:20220630T094432Z
UID:475-1656748800-1656757800@sevenmountainsaudubon.org
SUMMARY:July First Saturday Bird Walk
DESCRIPTION:Saturday\, July 2 at 8AM \nSeven Mountains’ new president Bill Tyler will lead a walk at one of our favorite birding venues! Join us for an end- season look at birds and babies. Meet in the parking lot by the environmental center/visitor’s center. \nA few pairs of binoculars are available for borrowing
URL:https://sevenmountainsaudubon.org/event/july-first-saturday-bird-walk/
LOCATION:Montour Preserve\, 700 Preserve Rd\, Danville\, PA\, 17821\, United States
CATEGORIES:Bird Walk
END:VEVENT
END:VCALENDAR