BEGIN:VCALENDAR
VERSION:2.0
PRODID:-//Seven Mountains - ECPv6.15.13//NONSGML v1.0//EN
CALSCALE:GREGORIAN
METHOD:PUBLISH
X-ORIGINAL-URL:https://sevenmountainsaudubon.org
X-WR-CALDESC:Events for Seven Mountains
REFRESH-INTERVAL;VALUE=DURATION:PT1H
X-Robots-Tag:noindex
X-PUBLISHED-TTL:PT1H
BEGIN:VTIMEZONE
TZID:America/Halifax
BEGIN:DAYLIGHT
TZOFFSETFROM:-0400
TZOFFSETTO:-0300
TZNAME:ADT
DTSTART:20230312T060000
END:DAYLIGHT
BEGIN:STANDARD
TZOFFSETFROM:-0300
TZOFFSETTO:-0400
TZNAME:AST
DTSTART:20231105T050000
END:STANDARD
BEGIN:DAYLIGHT
TZOFFSETFROM:-0400
TZOFFSETTO:-0300
TZNAME:ADT
DTSTART:20240310T060000
END:DAYLIGHT
BEGIN:STANDARD
TZOFFSETFROM:-0300
TZOFFSETTO:-0400
TZNAME:AST
DTSTART:20241103T050000
END:STANDARD
BEGIN:DAYLIGHT
TZOFFSETFROM:-0400
TZOFFSETTO:-0300
TZNAME:ADT
DTSTART:20250309T060000
END:DAYLIGHT
BEGIN:STANDARD
TZOFFSETFROM:-0300
TZOFFSETTO:-0400
TZNAME:AST
DTSTART:20251102T050000
END:STANDARD
END:VTIMEZONE
BEGIN:VEVENT
DTSTART;TZID=America/Halifax:20240106T090000
DTEND;TZID=America/Halifax:20240106T110000
DTSTAMP:20260425T005629
CREATED:20231227T235408Z
LAST-MODIFIED:20231227T235408Z
UID:597-1704531600-1704538800@sevenmountainsaudubon.org
SUMMARY:January First Saturday Bird Walk - RB Winter State Park
DESCRIPTION:9AM\, January 6\, 2024 \nMeet with Walk Leader Mike Anderson at the Parking Area\, near the dam.  \nGPS coordinates (49.99024\, -77.19027).
URL:https://sevenmountainsaudubon.org/event/january-first-saturday-bird-walk-rb-winter-state-park/
CATEGORIES:Bird Walk
END:VEVENT
END:VCALENDAR