BEGIN:VCALENDAR
VERSION:2.0
PRODID:-//Seven Mountains - ECPv6.15.13//NONSGML v1.0//EN
CALSCALE:GREGORIAN
METHOD:PUBLISH
X-ORIGINAL-URL:https://sevenmountainsaudubon.org
X-WR-CALDESC:Events for Seven Mountains
REFRESH-INTERVAL;VALUE=DURATION:PT1H
X-Robots-Tag:noindex
X-PUBLISHED-TTL:PT1H
BEGIN:VTIMEZONE
TZID:America/Halifax
BEGIN:DAYLIGHT
TZOFFSETFROM:-0400
TZOFFSETTO:-0300
TZNAME:ADT
DTSTART:20230312T060000
END:DAYLIGHT
BEGIN:STANDARD
TZOFFSETFROM:-0300
TZOFFSETTO:-0400
TZNAME:AST
DTSTART:20231105T050000
END:STANDARD
BEGIN:DAYLIGHT
TZOFFSETFROM:-0400
TZOFFSETTO:-0300
TZNAME:ADT
DTSTART:20240310T060000
END:DAYLIGHT
BEGIN:STANDARD
TZOFFSETFROM:-0300
TZOFFSETTO:-0400
TZNAME:AST
DTSTART:20241103T050000
END:STANDARD
BEGIN:DAYLIGHT
TZOFFSETFROM:-0400
TZOFFSETTO:-0300
TZNAME:ADT
DTSTART:20250309T060000
END:DAYLIGHT
BEGIN:STANDARD
TZOFFSETFROM:-0300
TZOFFSETTO:-0400
TZNAME:AST
DTSTART:20251102T050000
END:STANDARD
END:VTIMEZONE
BEGIN:VEVENT
DTSTART;TZID=America/Halifax:20240203T081500
DTEND;TZID=America/Halifax:20240203T111500
DTSTAMP:20260424T234038
CREATED:20240201T123553Z
LAST-MODIFIED:20240201T124509Z
UID:602-1706948100-1706958900@sevenmountainsaudubon.org
SUMMARY:February First Saturday Bird Walk
DESCRIPTION:Saturday\, February 3\, 2024 8:15 AM – 11:15 AM \nTurtle Creek Dog Park \nWalk Leaders are Joe Gyekis and Jessica Sauder \n 
URL:https://sevenmountainsaudubon.org/event/february-first-saturday-bird-walk/
LOCATION:Turtle Creek Dog Park\, 1225 Supplee Mill Rd\, Lewisburg\, PA\, 17837\, United States
CATEGORIES:Bird Walk
END:VEVENT
END:VCALENDAR