BEGIN:VCALENDAR
VERSION:2.0
PRODID:-//Seven Mountains - ECPv6.15.13//NONSGML v1.0//EN
CALSCALE:GREGORIAN
METHOD:PUBLISH
X-ORIGINAL-URL:https://sevenmountainsaudubon.org
X-WR-CALDESC:Events for Seven Mountains
REFRESH-INTERVAL;VALUE=DURATION:PT1H
X-Robots-Tag:noindex
X-PUBLISHED-TTL:PT1H
BEGIN:VTIMEZONE
TZID:America/Halifax
BEGIN:DAYLIGHT
TZOFFSETFROM:-0400
TZOFFSETTO:-0300
TZNAME:ADT
DTSTART:20230312T060000
END:DAYLIGHT
BEGIN:STANDARD
TZOFFSETFROM:-0300
TZOFFSETTO:-0400
TZNAME:AST
DTSTART:20231105T050000
END:STANDARD
BEGIN:DAYLIGHT
TZOFFSETFROM:-0400
TZOFFSETTO:-0300
TZNAME:ADT
DTSTART:20240310T060000
END:DAYLIGHT
BEGIN:STANDARD
TZOFFSETFROM:-0300
TZOFFSETTO:-0400
TZNAME:AST
DTSTART:20241103T050000
END:STANDARD
BEGIN:DAYLIGHT
TZOFFSETFROM:-0400
TZOFFSETTO:-0300
TZNAME:ADT
DTSTART:20250309T060000
END:DAYLIGHT
BEGIN:STANDARD
TZOFFSETFROM:-0300
TZOFFSETTO:-0400
TZNAME:AST
DTSTART:20251102T050000
END:STANDARD
END:VTIMEZONE
BEGIN:VEVENT
DTSTART;TZID=America/Halifax:20240504T080000
DTEND;TZID=America/Halifax:20240504T100000
DTSTAMP:20260424T200311
CREATED:20240428T200432Z
LAST-MODIFIED:20240428T200432Z
UID:642-1714809600-1714816800@sevenmountainsaudubon.org
SUMMARY:First Saturday May Bird Walk
DESCRIPTION:Saturday\, May 4 at 8AM \nUnited States Penitentiary in Lewisburg\, 2400 Robert F Miller Dr\, Lewisburg\, PA 17837\, United States \nYou can arrive between 7:30am – 8:00am.DIRECTIONS:As you enter the front gate to USP Lewisburg\, take the very first left\, follow that to a Stop sign at a “Y”. Take a left there\, also. This will take along Buffalo Creek to the Training Center. Park in the parking lot in front of the Training Center. You can bring binoculars\, and cameras. We are usually done with the walk before noon.Any questions feel free to contact Brent Bacon on Facebook messenger.
URL:https://sevenmountainsaudubon.org/event/first-saturday-may-bird-walk/
CATEGORIES:Bird Walk
END:VEVENT
END:VCALENDAR