BEGIN:VCALENDAR
VERSION:2.0
PRODID:-//Seven Mountains - ECPv6.15.13//NONSGML v1.0//EN
CALSCALE:GREGORIAN
METHOD:PUBLISH
X-WR-CALNAME:Seven Mountains
X-ORIGINAL-URL:https://sevenmountainsaudubon.org
X-WR-CALDESC:Events for Seven Mountains
REFRESH-INTERVAL;VALUE=DURATION:PT1H
X-Robots-Tag:noindex
X-PUBLISHED-TTL:PT1H
BEGIN:VTIMEZONE
TZID:America/Halifax
BEGIN:DAYLIGHT
TZOFFSETFROM:-0400
TZOFFSETTO:-0300
TZNAME:ADT
DTSTART:20250309T060000
END:DAYLIGHT
BEGIN:STANDARD
TZOFFSETFROM:-0300
TZOFFSETTO:-0400
TZNAME:AST
DTSTART:20251102T050000
END:STANDARD
BEGIN:DAYLIGHT
TZOFFSETFROM:-0400
TZOFFSETTO:-0300
TZNAME:ADT
DTSTART:20260308T060000
END:DAYLIGHT
BEGIN:STANDARD
TZOFFSETFROM:-0300
TZOFFSETTO:-0400
TZNAME:AST
DTSTART:20261101T050000
END:STANDARD
BEGIN:DAYLIGHT
TZOFFSETFROM:-0400
TZOFFSETTO:-0300
TZNAME:ADT
DTSTART:20270314T060000
END:DAYLIGHT
BEGIN:STANDARD
TZOFFSETFROM:-0300
TZOFFSETTO:-0400
TZNAME:AST
DTSTART:20271107T050000
END:STANDARD
END:VTIMEZONE
BEGIN:VEVENT
DTSTART;TZID=America/Halifax:20260404T081500
DTEND;TZID=America/Halifax:20260404T113000
DTSTAMP:20260425T124834
CREATED:20260321T173954Z
LAST-MODIFIED:20260331T151121Z
UID:915-1775290500-1775302200@sevenmountainsaudubon.org
SUMMARY:LOCATION CHANGE: April Bird Walk at FAYLOR LAKE
DESCRIPTION:Saturday\, April 4\, 2026 at 8:15AM \nLOCATION CHANGE: Because rain is forecast for Tuesday thru Friday and Trails at Turtle Creek are already muddy; THE LOCATION HAS BEEN CHANGED TO FAYLOR LAKE. USE GPS COORDINATES  40.7602030\, -77.2276506 for the Parking Lot. Joanna Pease and Sabrina Kirby will lead the walk. Prime time for waterfowl migration and recent eBird list tallied 41 species. \nFaylor Lake\nGPS coordinates: 40.7602030\, -77.2276506
URL:https://sevenmountainsaudubon.org/event/april-bird-walk-at-turtle-creek-dog-park/
LOCATION:Turtle Creek Dog Park\, 1225 Supplee Mill Rd\, Lewisburg\, PA\, 17837\, United States
CATEGORIES:Bird Walk
END:VEVENT
BEGIN:VEVENT
DTSTART;TZID=America/Halifax:20260502T080000
DTEND;TZID=America/Halifax:20260502T103000
DTSTAMP:20260425T124834
CREATED:20260422T185436Z
LAST-MODIFIED:20260422T185559Z
UID:924-1777708800-1777717800@sevenmountainsaudubon.org
SUMMARY:May First Saturday Bird Walk (Lewisburg Penitentiary)
DESCRIPTION:Saturday\, May 2\, 2026 at 8 AM \nThere is a check point at the front gate. Let the Officer know that you are with Brent Bacon. The rear gate is closed on Saturday.After the checkpoint turn left\, at the next  stop sign\, keep left again. follow that road along the creek until you get to the Training Center parking lot.We will walk from the parking lot to the old covered bridge and back. \nUnited States Penitentiary\, Lewisburg \n2400 Robert F Miller Dr\, Lewisburg\, PA 17837
URL:https://sevenmountainsaudubon.org/event/may-first-saturday-bird-walk-2/
CATEGORIES:Bird Walk
END:VEVENT
END:VCALENDAR