BEGIN:VCALENDAR
VERSION:2.0
PRODID:-//Seven Mountains - ECPv6.15.13//NONSGML v1.0//EN
CALSCALE:GREGORIAN
METHOD:PUBLISH
X-WR-CALNAME:Seven Mountains
X-ORIGINAL-URL:https://sevenmountainsaudubon.org
X-WR-CALDESC:Events for Seven Mountains
REFRESH-INTERVAL;VALUE=DURATION:PT1H
X-Robots-Tag:noindex
X-PUBLISHED-TTL:PT1H
BEGIN:VTIMEZONE
TZID:America/Halifax
BEGIN:DAYLIGHT
TZOFFSETFROM:-0400
TZOFFSETTO:-0300
TZNAME:ADT
DTSTART:20250309T060000
END:DAYLIGHT
BEGIN:STANDARD
TZOFFSETFROM:-0300
TZOFFSETTO:-0400
TZNAME:AST
DTSTART:20251102T050000
END:STANDARD
BEGIN:DAYLIGHT
TZOFFSETFROM:-0400
TZOFFSETTO:-0300
TZNAME:ADT
DTSTART:20260308T060000
END:DAYLIGHT
BEGIN:STANDARD
TZOFFSETFROM:-0300
TZOFFSETTO:-0400
TZNAME:AST
DTSTART:20261101T050000
END:STANDARD
BEGIN:DAYLIGHT
TZOFFSETFROM:-0400
TZOFFSETTO:-0300
TZNAME:ADT
DTSTART:20270314T060000
END:DAYLIGHT
BEGIN:STANDARD
TZOFFSETFROM:-0300
TZOFFSETTO:-0400
TZNAME:AST
DTSTART:20271107T050000
END:STANDARD
END:VTIMEZONE
BEGIN:VEVENT
DTSTART;TZID=America/Halifax:20260218T190000
DTEND;TZID=America/Halifax:20260218T210000
DTSTAMP:20260423T125232
CREATED:20260207T184831Z
LAST-MODIFIED:20260207T184831Z
UID:904-1771441200-1771448400@sevenmountainsaudubon.org
SUMMARY:February Educational Meeting 2/18/26 "Native Habitat for Birds on Your Property"
DESCRIPTION:Wednesday\, February 18 7-9PM \nWild birds have been experiencing population declines for decades. One of the greatest factors in this decline is habitat loss. Pheasants Forever and Quail Forever Senior Farm Bill Biologist\, Court Harding\, also a member of the Board for the Seven Mountains Audubon\, will present on how you can help birds in your backyard or across your property by improving wildlife habitat. Court will present on how Pheasants Forever helps to improve wildlife habitat for private landowners\, what habitat improvements look like\, native plants that are beneficial to birds\, and noxious weed management. The presentation includes plenty of bird photos Court has taken across Pennsylvania. \n589 Fairground Rd\, Lewisburg\, PA 17837-8832\, United States
URL:https://sevenmountainsaudubon.org/event/february-educational-meeting-2-18-26-native-habitat-for-birds-on-your-property/
LOCATION:East Buffalo Township Municipal Building\, 589 Fairground Road\, Lewisburg\, PA\, 7837\, United States
CATEGORIES:Monthly Presentation
END:VEVENT
END:VCALENDAR