BEGIN:VCALENDAR
VERSION:2.0
PRODID:-//Seven Mountains - ECPv6.15.13//NONSGML v1.0//EN
CALSCALE:GREGORIAN
METHOD:PUBLISH
X-ORIGINAL-URL:https://sevenmountainsaudubon.org
X-WR-CALDESC:Events for Seven Mountains
REFRESH-INTERVAL;VALUE=DURATION:PT1H
X-Robots-Tag:noindex
X-PUBLISHED-TTL:PT1H
BEGIN:VTIMEZONE
TZID:America/Halifax
BEGIN:DAYLIGHT
TZOFFSETFROM:-0400
TZOFFSETTO:-0300
TZNAME:ADT
DTSTART:20240310T060000
END:DAYLIGHT
BEGIN:STANDARD
TZOFFSETFROM:-0300
TZOFFSETTO:-0400
TZNAME:AST
DTSTART:20241103T050000
END:STANDARD
BEGIN:DAYLIGHT
TZOFFSETFROM:-0400
TZOFFSETTO:-0300
TZNAME:ADT
DTSTART:20250309T060000
END:DAYLIGHT
BEGIN:STANDARD
TZOFFSETFROM:-0300
TZOFFSETTO:-0400
TZNAME:AST
DTSTART:20251102T050000
END:STANDARD
BEGIN:DAYLIGHT
TZOFFSETFROM:-0400
TZOFFSETTO:-0300
TZNAME:ADT
DTSTART:20260308T060000
END:DAYLIGHT
BEGIN:STANDARD
TZOFFSETFROM:-0300
TZOFFSETTO:-0400
TZNAME:AST
DTSTART:20261101T050000
END:STANDARD
END:VTIMEZONE
BEGIN:VEVENT
DTSTART;TZID=America/Halifax:20250219T190000
DTEND;TZID=America/Halifax:20250219T210000
DTSTAMP:20260424T065810
CREATED:20250203T201611Z
LAST-MODIFIED:20250203T201611Z
UID:694-1739991600-1739998800@sevenmountainsaudubon.org
SUMMARY:A Trip to Falkland Islands\, South Georgia and Antarctica: Birds\, Wildlife\, and History by Cindy Coup
DESCRIPTION:Wednesday\, February 19 at 7 PM \nSeven Mountains Audubon February Educational Meeting – Wednesday February 19\, 2025 at 7PM. Cindy Coup will present her trip to the Falkland Islands\, South Georgia and Antarctica including birds\, wildlife\, history\, scenery and a summary of the experience.  \n589 Fairground Rd\, Lewisburg\, PA 17837-8832\, United States
URL:https://sevenmountainsaudubon.org/event/a-trip-to-falkland-islands-south-georgia-and-antarctica-birds-wildlife-and-history-by-cindy-coup/
LOCATION:East Buffalo Township Municipal Building\, 589 Fairground Road\, Lewisburg\, PA\, 7837\, United States
CATEGORIES:Monthly Presentation
END:VEVENT
END:VCALENDAR