BEGIN:VCALENDAR
VERSION:2.0
PRODID:-//Seven Mountains - ECPv6.15.13//NONSGML v1.0//EN
CALSCALE:GREGORIAN
METHOD:PUBLISH
X-WR-CALNAME:Seven Mountains
X-ORIGINAL-URL:https://sevenmountainsaudubon.org
X-WR-CALDESC:Events for Seven Mountains
REFRESH-INTERVAL;VALUE=DURATION:PT1H
X-Robots-Tag:noindex
X-PUBLISHED-TTL:PT1H
BEGIN:VTIMEZONE
TZID:America/Halifax
BEGIN:DAYLIGHT
TZOFFSETFROM:-0400
TZOFFSETTO:-0300
TZNAME:ADT
DTSTART:20240310T060000
END:DAYLIGHT
BEGIN:STANDARD
TZOFFSETFROM:-0300
TZOFFSETTO:-0400
TZNAME:AST
DTSTART:20241103T050000
END:STANDARD
BEGIN:DAYLIGHT
TZOFFSETFROM:-0400
TZOFFSETTO:-0300
TZNAME:ADT
DTSTART:20250309T060000
END:DAYLIGHT
BEGIN:STANDARD
TZOFFSETFROM:-0300
TZOFFSETTO:-0400
TZNAME:AST
DTSTART:20251102T050000
END:STANDARD
BEGIN:DAYLIGHT
TZOFFSETFROM:-0400
TZOFFSETTO:-0300
TZNAME:ADT
DTSTART:20260308T060000
END:DAYLIGHT
BEGIN:STANDARD
TZOFFSETFROM:-0300
TZOFFSETTO:-0400
TZNAME:AST
DTSTART:20261101T050000
END:STANDARD
END:VTIMEZONE
BEGIN:VEVENT
DTSTART;TZID=America/Halifax:20250416T190000
DTEND;TZID=America/Halifax:20250416T210000
DTSTAMP:20260424T040721
CREATED:20250406T154515Z
LAST-MODIFIED:20250406T154515Z
UID:722-1744830000-1744837200@sevenmountainsaudubon.org
SUMMARY:"The Beautiful Eastern Bluebird" presented by Dick Hess. Seven Mts. Education Mtg.
DESCRIPTION:Wednesday\, April 16\, 2025\, 7PM \nPlease join us for “The Beautiful Eastern Bluebird” by Richard “Dick” Hess. Mr. Hess retired from PPL Montour Preserve after 25 years of doing Land Management\, public programs and law enforcement with the Pennsylvania Fish Commission. Interested in photography from the age of 10\, Dick started taking pictures while in the U.S. Navy\, eventually purchasing professional grade equipment and specializing in wildlife photography. Most of his pictures are taken at his farm near Exchange\, PA. His photography and this program\, which he has refined for several years\, are exceptional. \nOur meeting place is the East Buffalo Township building\, 589 Fairgrounds Road\, Lewisburg\, PA. We will continue to stream presentations on Facebook Live\, but hope to see you in person. Everyone is welcome to this free event and please feel free to bring a friend or two. Stay afterward to enjoy some refreshments and chat.
URL:https://sevenmountainsaudubon.org/event/the-beautiful-eastern-bluebird-presented-by-dick-hess-seven-mts-education-mtg/
LOCATION:East Buffalo Township Municipal Building\, 589 Fairground Road\, Lewisburg\, PA\, 7837\, United States
CATEGORIES:Monthly Presentation
END:VEVENT
END:VCALENDAR