BEGIN:VCALENDAR
VERSION:2.0
PRODID:-//Seven Mountains - ECPv6.15.13//NONSGML v1.0//EN
CALSCALE:GREGORIAN
METHOD:PUBLISH
X-WR-CALNAME:Seven Mountains
X-ORIGINAL-URL:https://sevenmountainsaudubon.org
X-WR-CALDESC:Events for Seven Mountains
REFRESH-INTERVAL;VALUE=DURATION:PT1H
X-Robots-Tag:noindex
X-PUBLISHED-TTL:PT1H
BEGIN:VTIMEZONE
TZID:America/Halifax
BEGIN:DAYLIGHT
TZOFFSETFROM:-0400
TZOFFSETTO:-0300
TZNAME:ADT
DTSTART:20250309T060000
END:DAYLIGHT
BEGIN:STANDARD
TZOFFSETFROM:-0300
TZOFFSETTO:-0400
TZNAME:AST
DTSTART:20251102T050000
END:STANDARD
BEGIN:DAYLIGHT
TZOFFSETFROM:-0400
TZOFFSETTO:-0300
TZNAME:ADT
DTSTART:20260308T060000
END:DAYLIGHT
BEGIN:STANDARD
TZOFFSETFROM:-0300
TZOFFSETTO:-0400
TZNAME:AST
DTSTART:20261101T050000
END:STANDARD
BEGIN:DAYLIGHT
TZOFFSETFROM:-0400
TZOFFSETTO:-0300
TZNAME:ADT
DTSTART:20270314T060000
END:DAYLIGHT
BEGIN:STANDARD
TZOFFSETFROM:-0300
TZOFFSETTO:-0400
TZNAME:AST
DTSTART:20271107T050000
END:STANDARD
END:VTIMEZONE
BEGIN:VEVENT
DTSTART;TZID=America/Halifax:20260422T190000
DTEND;TZID=America/Halifax:20260422T210000
DTSTAMP:20260423T111457
CREATED:20260408T154832Z
LAST-MODIFIED:20260408T154832Z
UID:921-1776884400-1776891600@sevenmountainsaudubon.org
SUMMARY:Snowy Owls and Common Loons by Dan Oh (Zoom)
DESCRIPTION:Wednesday\, April 22 at 7PM\nClick Here to Register. \nCommon Loons and Snowy Owls by Dan Oh\, close friend of Lauri and Ralph Shaffer\, excellent photographer\, and New England birder\, will use PowerPoint\, still photography\, and video to discuss two of his favorite subjects: the Snowy Owl and the Common Loon\, including their life cycles\,how to find them\, and tips for photographing them. Dan is a retired Chemical Engineer and former Director of Operations at Key Polymer. Dan was recently awarded two of the top ten awards in the 2025 National Audubon Photography Contest for his Snowy Owl and Common Loon video submissions. This is a Zoom meeting but we will also project the Zoom meeting on a large screen at our usual meeting place\, 589 Fairground Road\, Lewisburg\, for those who would prefer to attend in that way.
URL:https://sevenmountainsaudubon.org/event/snowy-owls-and-common-loons-by-dan-oh/
CATEGORIES:Monthly Presentation
END:VEVENT
END:VCALENDAR