BEGIN:VCALENDAR
VERSION:2.0
PRODID:-//Seven Mountains - ECPv6.15.13//NONSGML v1.0//EN
CALSCALE:GREGORIAN
METHOD:PUBLISH
X-WR-CALNAME:Seven Mountains
X-ORIGINAL-URL:https://sevenmountainsaudubon.org
X-WR-CALDESC:Events for Seven Mountains
REFRESH-INTERVAL;VALUE=DURATION:PT1H
X-Robots-Tag:noindex
X-PUBLISHED-TTL:PT1H
BEGIN:VTIMEZONE
TZID:America/Halifax
BEGIN:DAYLIGHT
TZOFFSETFROM:-0400
TZOFFSETTO:-0300
TZNAME:ADT
DTSTART:20200308T060000
END:DAYLIGHT
BEGIN:STANDARD
TZOFFSETFROM:-0300
TZOFFSETTO:-0400
TZNAME:AST
DTSTART:20201101T050000
END:STANDARD
BEGIN:DAYLIGHT
TZOFFSETFROM:-0400
TZOFFSETTO:-0300
TZNAME:ADT
DTSTART:20210314T060000
END:DAYLIGHT
BEGIN:STANDARD
TZOFFSETFROM:-0300
TZOFFSETTO:-0400
TZNAME:AST
DTSTART:20211107T050000
END:STANDARD
BEGIN:DAYLIGHT
TZOFFSETFROM:-0400
TZOFFSETTO:-0300
TZNAME:ADT
DTSTART:20220313T060000
END:DAYLIGHT
BEGIN:STANDARD
TZOFFSETFROM:-0300
TZOFFSETTO:-0400
TZNAME:AST
DTSTART:20221106T050000
END:STANDARD
BEGIN:DAYLIGHT
TZOFFSETFROM:-0400
TZOFFSETTO:-0300
TZNAME:ADT
DTSTART:20230312T060000
END:DAYLIGHT
BEGIN:STANDARD
TZOFFSETFROM:-0300
TZOFFSETTO:-0400
TZNAME:AST
DTSTART:20231105T050000
END:STANDARD
BEGIN:DAYLIGHT
TZOFFSETFROM:-0400
TZOFFSETTO:-0300
TZNAME:ADT
DTSTART:20240310T060000
END:DAYLIGHT
BEGIN:STANDARD
TZOFFSETFROM:-0300
TZOFFSETTO:-0400
TZNAME:AST
DTSTART:20241103T050000
END:STANDARD
END:VTIMEZONE
BEGIN:VEVENT
DTSTART;TZID=America/Halifax:20230730T080000
DTEND;TZID=America/Halifax:20230730T170000
DTSTAMP:20260423T181643
CREATED:20230730T044835Z
LAST-MODIFIED:20230730T044835Z
UID:556-1690704000-1690736400@sevenmountainsaudubon.org
SUMMARY:August First Saturday Walk
DESCRIPTION:Saturday\, August 5 at 8AM \nWayne Stahl’s Farm \n7732 Col John Kelly Rd\, Lewisburg PA 17837 \nPollinator garden\, wildflower field and a field full of milkweed. \n 
URL:https://sevenmountainsaudubon.org/event/august-first-saturday-walk/
CATEGORIES:Bird Walk
END:VEVENT
BEGIN:VEVENT
DTSTART;TZID=America/Halifax:20230603T080000
DTEND;TZID=America/Halifax:20230603T100000
DTSTAMP:20260423T181643
CREATED:20230519T163007Z
LAST-MODIFIED:20230519T163007Z
UID:553-1685779200-1685786400@sevenmountainsaudubon.org
SUMMARY:June First Saturday Walk
DESCRIPTION:SATURDAY\, JUNE 3\, 2023 AT 8 AM \nSeven Mountains Audubon will hold its June First Saturday Bird Walk at the Snyder County Conservation District’s Trail of Trees\, Colony Road\, Selinsgrove\, PA. The walk will be led by John Peeler.
URL:https://sevenmountainsaudubon.org/event/june-first-saturday-walk/
END:VEVENT
BEGIN:VEVENT
DTSTART;TZID=America/Halifax:20230517T190000
DTEND;TZID=America/Halifax:20230517T210000
DTSTAMP:20260423T181643
CREATED:20230517T153131Z
LAST-MODIFIED:20230517T153131Z
UID:551-1684350000-1684357200@sevenmountainsaudubon.org
SUMMARY:May Presentation with Falconer Michael Kuriga
DESCRIPTION:Michael has been a falconer for over thirty years. He will be talking about the role of falconers in the reintroduction of peregrine falcons. \nWednesday\, May 17 – 7PM at the Kelly Township Building (551 Zeigler RD)
URL:https://sevenmountainsaudubon.org/event/may-presentation-with-falconer-michael-kuriga/
LOCATION:Kelly Township Building (551 Zeigler RD)\, 551 Zeigler RD\, Lewisburg\, PA\, 17837
END:VEVENT
BEGIN:VEVENT
DTSTART;TZID=America/Halifax:20230506T080000
DTEND;TZID=America/Halifax:20230506T100000
DTSTAMP:20260423T181643
CREATED:20230418T221318Z
LAST-MODIFIED:20230418T232626Z
UID:548-1683360000-1683367200@sevenmountainsaudubon.org
SUMMARY:May Bird Walk
DESCRIPTION:May 6\, 2023 at 8AM \nSeven Mountains Audubon will hold its May First Saturday Bird Walk on May 6th\, 2023\, at the United States Penitentiary Training Center at Lewisburg\, PA. The walk will be led by Brent Bacon.\nDirections:\nTake an immediate left after going through the front gate on Wm Penn Drive. Do not go to the Penitentiary. Continue left at the next stop sign and go to the Training Center parking lot\,where we will meet.
URL:https://sevenmountainsaudubon.org/event/may-bird-walk-2/
END:VEVENT
BEGIN:VEVENT
DTSTART;TZID=America/Halifax:20230419T190000
DTEND;TZID=America/Halifax:20230519T210000
DTSTAMP:20260423T181643
CREATED:20230407T211626Z
LAST-MODIFIED:20230408T184854Z
UID:543-1681930800-1684530000@sevenmountainsaudubon.org
SUMMARY:Birding in Alaska
DESCRIPTION:Wednesday\, April 19 at 7PM. \nLauri Shaffer will discuss her recent experience birding in Alaska. The presentation will be in the Kelly Township Municipal building (551 Zeigler Rd) and also be live-streamed with Facebook live.
URL:https://sevenmountainsaudubon.org/event/birding-in-alaska-2/
LOCATION:Kelly Township Building (551 Zeigler RD)\, 551 Zeigler RD\, Lewisburg\, PA\, 17837
END:VEVENT
BEGIN:VEVENT
DTSTART;TZID=America/Halifax:20230415T080000
DTEND;TZID=America/Halifax:20230415T100000
DTSTAMP:20260423T181643
CREATED:20230330T192008Z
LAST-MODIFIED:20230330T193710Z
UID:537-1681545600-1681552800@sevenmountainsaudubon.org
SUMMARY:April Saturday Bird Walk (Allenwood Game Lands)
DESCRIPTION:Saturday\, April 15\, 2023: Meet at 8AM \nThis is the rescheduled April monthly Saturday bird walk\, originally scheduled for Saturday\, April 1. We decided to reschedule the bird walk because the forecast of rain will likely leave the trails flooded. The walk will be led by Michael McGuire. \nThis is a good location for migrating water\, wading\, and shore birds with several low lying ponds and wetland areas. The ponds can also be good places to see osprey and bald eagles. The osprey in the picture is from April 2019. By mid-April\, we should also start to see some migrating warblers. \nTrails are low lying and can often be wet. Water proof boots are suggested. Also expect ticks and dress and prepare accordingly. \nPlease follow directions below carefully. This location can be hard to find. \nGo west on Rt 44 off of Rt 15 at Allenwood about 4.3 miles. Turn north (right) on Mill Rd. Follow Mill Rd north until 1.4 miles until it ends at Alvira Rd. Turn east (right) on Alvira Rd and drive .55 miles until reaching the parking lot on the north (left) side of the road where we will begin our bird walk. Note that Alvira Rd is now gated off after (east of) this parking lot. This means it is no longer possible to drive to this location from the other direction. These are the GPS coordinates of the parking lot/meeting location 41° 8’10.55″N \, 76°57’33.36″W \n \n \nApril 2019\, photo credit © Michael McGuire
URL:https://sevenmountainsaudubon.org/event/april-saturday-bird-walk-allenwood-game-lands/
LOCATION:Allenwood Game Lands
END:VEVENT
BEGIN:VEVENT
DTSTART;TZID=America/Halifax:20230315T190000
DTEND;TZID=America/Halifax:20230315T210000
DTSTAMP:20260423T181643
CREATED:20230312T211350Z
LAST-MODIFIED:20230312T211350Z
UID:534-1678906800-1678914000@sevenmountainsaudubon.org
SUMMARY:March Educational Meeting: "Birding Iceland" by Karol Pasquinelli
DESCRIPTION:Seven Mountains Audubon Free Monthly Educational program will be held March 15th at 7pm at the Kelly Township Municipal Building\, 551 Zeigler Road in Lewisburg. Karol Pasquinelli will present a fascinating look at bird adventuring in her program entitled “Birding Iceland.” This will be an in-person lecture and also will be livestreamed on Seven Mountains Facebook page.
URL:https://sevenmountainsaudubon.org/event/march-educational-meeting-birding-iceland-by-karol-pasquinelli/
LOCATION:Kelly Township Building (551 Zeigler RD)\, 551 Zeigler RD\, Lewisburg\, PA\, 17837
END:VEVENT
BEGIN:VEVENT
DTSTART;TZID=America/Halifax:20230304T090000
DTEND;TZID=America/Halifax:20230304T110000
DTSTAMP:20260423T181643
CREATED:20230227T235815Z
LAST-MODIFIED:20230227T235926Z
UID:529-1677920400-1677927600@sevenmountainsaudubon.org
SUMMARY:March Saturday Bird Walk (Faylor Lake)
DESCRIPTION:Seven Mountains Audubon will hold its March First Saturday Bird Walk March 4th at 9 am at Faylor Lake near Beaver Springs. The walk will focus on migrating waterfowl and shorebirds\, and will be led by Kay Cramer.
URL:https://sevenmountainsaudubon.org/event/march-saturday-bird-walk-faylor-lake/
CATEGORIES:Bird Walk
END:VEVENT
BEGIN:VEVENT
DTSTART;TZID=America/Halifax:20230215T190000
DTEND;TZID=America/Halifax:20230215T210000
DTSTAMP:20260423T181643
CREATED:20230203T013422Z
LAST-MODIFIED:20230207T213519Z
UID:524-1676487600-1676494800@sevenmountainsaudubon.org
SUMMARY:February Monthly Program (Winter Raptor Survey)
DESCRIPTION:Wednesday\, February 15 at 7PM \nSeven Mountains Audubon’s Free Monthly Educational program will be held February 15th at 7pm at the Kelly Township Building\, 551 Zeigler Road in Lewisburg. Greg Grove will give a talk about the Winter Raptor Survey held annually around Pennsylvania. He will bring us up-to-date on raptors found in Central PA\, such as hawks\, eagles and falcons\, and discuss their relative abundance this year. This will be an in person lecture and also will be streamed on Seven Mountains Facebook page.
URL:https://sevenmountainsaudubon.org/event/february-monthly-program-winter-raptor-survey/
LOCATION:Kelly Township Building (551 Zeigler RD)\, 551 Zeigler RD\, Lewisburg\, PA\, 17837
CATEGORIES:Monthly Presentation
END:VEVENT
BEGIN:VEVENT
DTSTART;TZID=America/Halifax:20230204T080000
DTEND;TZID=America/Halifax:20230204T100000
DTSTAMP:20260423T181643
CREATED:20230125T181953Z
LAST-MODIFIED:20230203T013116Z
UID:517-1675497600-1675504800@sevenmountainsaudubon.org
SUMMARY:February Bird Walk (Turtle Creek Dog Park)
DESCRIPTION:Seven Mountains Audubon will hold its First Saturday Bird Walk February 4th at Turtle Creek Park (1248 Supplee Mill Rd\, Lewisburg\, PA). Led by birder Bill Malone\, it will begin in the parking lot at 8 a.m. Conditions Saturday morning will likely be very cold and icy. Good winter boots are suggested for those attending.
URL:https://sevenmountainsaudubon.org/event/february-bird-walk-turtle-creek-dog-park/
END:VEVENT
BEGIN:VEVENT
DTSTART;TZID=America/Halifax:20230118T190000
DTEND;TZID=America/Halifax:20230118T210000
DTSTAMP:20260423T181643
CREATED:20230113T231229Z
LAST-MODIFIED:20230113T231229Z
UID:514-1674068400-1674075600@sevenmountainsaudubon.org
SUMMARY:Owls and the Wonder of the Night
DESCRIPTION:Wednesday\, January 18 at 7PM \nThe program will be in person\, and also streamed on Facebook Live. Check the Seven Mountains Audubon Group to watch it at 7PM.\nThe program is:\n“Owls and the Wonder of the Night”\nPresented by: Joe Southerton\nJoe Southerton is a retired Mifflinburg Middle School science teacher. However\, for a few weeks in the fall and spring he continues to teach and enjoy working with the Mifflinburg Outdoor Education Program. Joe is married to Marirose\, also a retired school teacher and together they have five children all who have careers in the education field. Along with being passionate about the bird world\, Joe enjoys astronomy\, and all other areas ofnatural history. In particular\, he is fascinated with any critter that makes magical and frightening sounds at night. \nKelly Township Building \n551 Ziegler Rd\, Lewisburg\, PA 17837-6319\, United States
URL:https://sevenmountainsaudubon.org/event/owls-and-the-wonder-of-the-night/
LOCATION:Kelly Township Building (551 Zeigler RD)\, 551 Zeigler RD\, Lewisburg\, PA\, 17837
END:VEVENT
BEGIN:VEVENT
DTSTART;TZID=America/Halifax:20230107T080000
DTEND;TZID=America/Halifax:20230107T100000
DTSTAMP:20260423T181643
CREATED:20230103T233557Z
LAST-MODIFIED:20230103T233557Z
UID:508-1673078400-1673085600@sevenmountainsaudubon.org
SUMMARY:January First Saturday Walk (Montour Preserve)
DESCRIPTION:The first Saturday walk is this Saturday January 7th\, Montour Preserve\, 8AM  Meet at Lower Goose Cove parking lot (closest to the lake and the dam)
URL:https://sevenmountainsaudubon.org/event/january-first-saturday-walk-montour-preserve/
CATEGORIES:Bird Walk
END:VEVENT
BEGIN:VEVENT
DTSTART;TZID=America/Halifax:20221221T190000
DTEND;TZID=America/Halifax:20221221T210000
DTSTAMP:20260423T181643
CREATED:20221219T082726Z
LAST-MODIFIED:20221219T082726Z
UID:505-1671649200-1671656400@sevenmountainsaudubon.org
SUMMARY:December Show & Tell
DESCRIPTION:7 p.m. on December 21st \nThe Seven Mountains chapter of Audubon invites folks to its December meeting and program\, which will be a Holiday Show and Tell. Members share photos\, stories or other interesting bird-related information. Seven Mountains meets at the Kelly Twp. Building on Ziegler Road in Lewisburg at 7 p.m. on December 21st. The public is very welcome; refreshments will be provided.
URL:https://sevenmountainsaudubon.org/event/december-show-tell/
LOCATION:Kelly Township Building (551 Zeigler RD)\, 551 Zeigler RD\, Lewisburg\, PA\, 17837
END:VEVENT
BEGIN:VEVENT
DTSTART;TZID=America/Halifax:20221116T190000
DTEND;TZID=America/Halifax:20221116T210000
DTSTAMP:20260423T181643
CREATED:20221108T221339Z
LAST-MODIFIED:20221108T221708Z
UID:500-1668625200-1668632400@sevenmountainsaudubon.org
SUMMARY:Photography Tips\, with Mike Anderson
DESCRIPTION:Wednesday\, November 16 at 7PM \nBird enthusiast and wildlife photographer Mike Anderson will present effective photography tips that he uses in his own amazing work. Mike’s program will be presented in person as well as posted live on our Seven Mountains Audubon Facebook page. We meet at the Kelly Township Building\, 551 Zeigler Rd.\, Lewisburg\, PA.
URL:https://sevenmountainsaudubon.org/event/photography-tips-with-mike-anderson/
LOCATION:Kelly Township Building (551 Zeigler RD)\, 551 Zeigler RD\, Lewisburg\, PA\, 17837
END:VEVENT
BEGIN:VEVENT
DTSTART;TZID=America/Halifax:20221019T190000
DTEND;TZID=America/Halifax:20221019T210000
DTSTAMP:20260423T181643
CREATED:20220926T183557Z
LAST-MODIFIED:20221016T232309Z
UID:492-1666206000-1666213200@sevenmountainsaudubon.org
SUMMARY:Birding In Alaska (Canceled!)
DESCRIPTION:Please note this event now has been canceled! \nSeven Mountains Audubon Free Monthly Educational program will be October 19th at 7pm at the Kelly Township Building\, 551 Zeigler Road in Lewisburg.  Lauri Shaffer\, well-known local birder and excellent photographer\, will present a travelogue of birds and other creatures from her recent trip to Alaska.
URL:https://sevenmountainsaudubon.org/event/birding-in-alaska/
LOCATION:Kelly Township Building (551 Zeigler RD)\, 551 Zeigler RD\, Lewisburg\, PA\, 17837
END:VEVENT
BEGIN:VEVENT
DTSTART;TZID=America/Halifax:20221001T080000
DTEND;TZID=America/Halifax:20221001T100000
DTSTAMP:20260423T181643
CREATED:20220926T182137Z
LAST-MODIFIED:20220930T203735Z
UID:490-1664611200-1664618400@sevenmountainsaudubon.org
SUMMARY:Canceled! (October First Saturday Bird Walk)
DESCRIPTION:The bird walk scheduled for tomorrow (October 1) at the Trail of Trees in Selinsgrove has been canceled!
URL:https://sevenmountainsaudubon.org/event/october-saturday-bird-walk-2/
CATEGORIES:Bird Walk
END:VEVENT
BEGIN:VEVENT
DTSTART;TZID=America/Halifax:20220921T193000
DTEND;TZID=America/Halifax:20220921T210000
DTSTAMP:20260423T181643
CREATED:20220914T212554Z
LAST-MODIFIED:20220914T212554Z
UID:487-1663788600-1663794000@sevenmountainsaudubon.org
SUMMARY:Tanzanian Safari Presentation
DESCRIPTION:Wednesday\, September 21 \n7-9PM \nIn-person at Kelly Township Building and live-streamed on Facebook \n\n\nExperience a Tanzanian Safari with Linette Mansberger. Her focus will be on the birds\, mammals and other wildlife of Arusha\, Tarangire\, Serengeti\, and Lake Manyara National Parks and Ngoro Ngoro Conservation Area. Enjoy the photos of birds from the diminutiveand iridescent Variable Sunbird to the Common Ostrich. Learn about the Great Migration and see images of the many mammals – including herds of Burchell’s Zebras\, a female Cheetah and her young cubs\, Vervet Monkeys\, and Epauletted Fruit Bats hanging in trees – and colorful lizards and butterflies that are being protected in these important ecological areas in northern Tanzania.\n\nLynette Mansfield\n\nLynette is retired kindergarten teacher and Vice President of South Mountain Audubon in Gettysburg.  She is an amateur photographer who enjoys traveling to new and exotic locations.  She says that sharing her photos is a fun way to educate others about places and nature that they might never see.
URL:https://sevenmountainsaudubon.org/event/tanzanian-safari-presentation/
LOCATION:Kelly Township Building (551 Zeigler RD)\, 551 Zeigler RD\, Lewisburg\, PA\, 17837
CATEGORIES:Monthly Presentation
END:VEVENT
BEGIN:VEVENT
DTSTART;TZID=America/Halifax:20220903T080000
DTEND;TZID=America/Halifax:20220903T100000
DTSTAMP:20260423T181643
CREATED:20220831T025007Z
LAST-MODIFIED:20220831T025007Z
UID:484-1662192000-1662199200@sevenmountainsaudubon.org
SUMMARY:September First Saturday Bird Walk
DESCRIPTION:Saturday\, September 3 at 8AM \nLauri Shaffer will be leading a bird walk at Montour Preserve. Meet at the first pavilion parking area above the educational center at 8AM. \n 
URL:https://sevenmountainsaudubon.org/event/september-first-saturday-bird-walk/
CATEGORIES:Bird Walk
END:VEVENT
BEGIN:VEVENT
DTSTART;TZID=America/Halifax:20220806T080000
DTEND;TZID=America/Halifax:20220806T100000
DTSTAMP:20260423T181643
CREATED:20220802T165641Z
LAST-MODIFIED:20220802T165641Z
UID:481-1659772800-1659780000@sevenmountainsaudubon.org
SUMMARY:August First Saturday Bird Walk
DESCRIPTION:Saturday\, August 6\, 2022 \nMeet at 8AM at RB Winter State Park in the parking lot by the west side of Halfway Lake. We will walk the Rapid Run Nature Trail\, possibly more after this\, depending on interest.
URL:https://sevenmountainsaudubon.org/event/august-first-saturday-bird-walk/
END:VEVENT
BEGIN:VEVENT
DTSTART;TZID=America/Halifax:20220702T080000
DTEND;TZID=America/Halifax:20220702T103000
DTSTAMP:20260423T181643
CREATED:20220625T181724Z
LAST-MODIFIED:20220630T094432Z
UID:475-1656748800-1656757800@sevenmountainsaudubon.org
SUMMARY:July First Saturday Bird Walk
DESCRIPTION:Saturday\, July 2 at 8AM \nSeven Mountains’ new president Bill Tyler will lead a walk at one of our favorite birding venues! Join us for an end- season look at birds and babies. Meet in the parking lot by the environmental center/visitor’s center. \nA few pairs of binoculars are available for borrowing
URL:https://sevenmountainsaudubon.org/event/july-first-saturday-bird-walk/
LOCATION:Montour Preserve\, 700 Preserve Rd\, Danville\, PA\, 17821\, United States
CATEGORIES:Bird Walk
END:VEVENT
BEGIN:VEVENT
DTSTART;TZID=America/Halifax:20220615T190000
DTEND;TZID=America/Halifax:20220615T210000
DTSTAMP:20260423T181643
CREATED:20220612T133652Z
LAST-MODIFIED:20220612T133708Z
UID:472-1655319600-1655326800@sevenmountainsaudubon.org
SUMMARY:Birds and Plants in the Natural World
DESCRIPTION:Wednesday\, June 15\, 2022 at 7PM \nSeven Mountains Audubon Monthly Educational program will be on June 15th at 7PM at Kelly Township building. Guest speaker will be Kerry Givens MD a nationally known bird photographer. His photographs have appeared in Sierra Club and Audubon magazines\, as well as National Geographic. He has led a trip to Australia and each year has given a photography lecture at the Philadelphia Flower Show. Dr. Givens specializes in macrophotography\, and his program will focus on birds\, plants\, and insects in the natural world. This will be an in person lecture and also will be Livestreamed on Seven Mountains Facebook page.
URL:https://sevenmountainsaudubon.org/event/birds-and-plants-in-the-natural-world/
LOCATION:Kelly Township Building (551 Zeigler RD)\, 551 Zeigler RD\, Lewisburg\, PA\, 17837
CATEGORIES:Monthly Presentation
END:VEVENT
BEGIN:VEVENT
DTSTART;TZID=America/Halifax:20220518T190000
DTEND;TZID=America/Halifax:20220518T210000
DTSTAMP:20260423T181643
CREATED:20220517T171614Z
LAST-MODIFIED:20220517T171841Z
UID:468-1652900400-1652907600@sevenmountainsaudubon.org
SUMMARY:Susquehanna Riverkeepers (Zoom Presentation)
DESCRIPTION:Tomorrow night\, Seven Mountains is pleased to present the Middle Susquehanna Riverkeeper\, John Zaktanskiy\, for our May program presenter. John has an interesting talk prepared on the River and its importance to people\, birds and other creatures. We look forward to hearing him speak! Email info@sevenmountainsaudubon.org for the Zoom link to participate.
URL:https://sevenmountainsaudubon.org/event/susquehanna-riverkeepers-zoom-presentation/
END:VEVENT
BEGIN:VEVENT
DTSTART;TZID=America/Halifax:20220507T073000
DTEND;TZID=America/Halifax:20220507T100000
DTSTAMP:20260423T181643
CREATED:20220425T165551Z
LAST-MODIFIED:20220506T121615Z
UID:462-1651908600-1651917600@sevenmountainsaudubon.org
SUMMARY:Canceled! May First Saturday Bird Walk
DESCRIPTION:Unfortunately\, we are canceling the bird walk scheduled for tomorrow (Saturday\, May 6) because of the anticipated heavy rain.
URL:https://sevenmountainsaudubon.org/event/may-first-saturday-bird-walk/
END:VEVENT
BEGIN:VEVENT
DTSTART;TZID=America/Halifax:20220402T080000
DTEND;TZID=America/Halifax:20220402T100000
DTSTAMP:20260423T181643
CREATED:20220330T002621Z
LAST-MODIFIED:20220330T002621Z
UID:459-1648886400-1648893600@sevenmountainsaudubon.org
SUMMARY:April Saturday Bird Walk
DESCRIPTION:Saturday\, April 2 at 8AM \nMeet at Montour Preserve at the Goose Cove parking lot.
URL:https://sevenmountainsaudubon.org/event/april-saturday-bird-walk/
LOCATION:Montour Preserve\, 700 Preserve Rd\, Danville\, PA\, 17821\, United States
CATEGORIES:Bird Walk
END:VEVENT
BEGIN:VEVENT
DTSTART;TZID=America/Halifax:20220305T080000
DTEND;TZID=America/Halifax:20220305T223000
DTSTAMP:20260423T181643
CREATED:20220216T181828Z
LAST-MODIFIED:20220216T182014Z
UID:455-1646467200-1646519400@sevenmountainsaudubon.org
SUMMARY:March Saturday Bird Walk (Dale's Ridge)
DESCRIPTION:8AM Saturday\, March 5\, 2022 \nLeader will be John Peeler. If the switchbacks are still icy\, we can go up past the house\, but I see no snow or ice in the forecast for the next couple of weeks. Meet at 8AM at Dale’s Ridge.
URL:https://sevenmountainsaudubon.org/event/march-saturday-bird-walk-dales-ridge/
END:VEVENT
BEGIN:VEVENT
DTSTART;TZID=America/Halifax:20220205T080000
DTEND;TZID=America/Halifax:20220205T100000
DTSTAMP:20260423T181643
CREATED:20220127T013617Z
LAST-MODIFIED:20220205T011138Z
UID:449-1644048000-1644055200@sevenmountainsaudubon.org
SUMMARY:February Saturday Bird Walk Cancelled!
DESCRIPTION:Unfortunately\, the bird walk previously scheduled for tomorrow morning (February 5) at the Trail of Trees has been cancelled because of very icy conditions.
URL:https://sevenmountainsaudubon.org/event/february-saturday-bird-walk/
CATEGORIES:Bird Walk
END:VEVENT
BEGIN:VEVENT
DTSTART;TZID=America/Halifax:20220119T190000
DTEND;TZID=America/Halifax:20220119T210000
DTSTAMP:20260423T181643
CREATED:20220110T195548Z
LAST-MODIFIED:20220110T195548Z
UID:444-1642618800-1642626000@sevenmountainsaudubon.org
SUMMARY:Nature Photography—Keeping it Simple
DESCRIPTION:Wednesday\, January 19th\, 2022\n7PM (Virtual Event via Zoom) \nThe Seven Mountains Audubon Educational Program for January 19th\, 2022 will be by Zoom. Lauri Shaffer will present on “Nature Photography—Keeping it Simple.” Many tips for getting great photos with a Zoom camera or handheld DSLR will be shared for the beginning or intermediate photographer. Lauri is an avid birder and has been photographing birds and nature for about 12 years\, with the purpose of sharing the excitement of new discoveries through her nature blog\, programs\, and photos on social media.\nTo register for this Zoom presentation send a request to “falconrider1@ymail.com”
URL:https://sevenmountainsaudubon.org/event/nature-photography-keeping-it-simple/
END:VEVENT
BEGIN:VEVENT
DTSTART;VALUE=DATE:20211218
DTEND;VALUE=DATE:20211219
DTSTAMP:20260423T181643
CREATED:20211208T203947Z
LAST-MODIFIED:20211208T203947Z
UID:441-1639785600-1639871999@sevenmountainsaudubon.org
SUMMARY:Lewisburg Christmas Bird Count
DESCRIPTION:December 18\, 2021 \nThe Lewisburg Christmas Bird Count will be held on Saturday\, December 18\, 2021.\nPlease let me know if you will\, might\, or will not be able to participate.\nThis year National Audubon asked us not to schedule the count until November 15 so that more local information on Covid might be available. I’m not sure that helped\, since nobody knows yet what conditions will be like a month from now.\nAlso\, like last year\, National Audubon requests that only related family members accompany each other during the count. This is certainly an abundance of caution\, and I leave it to you individually to determine how appropriate this advice is to you.\nSpread the word. Once I have a reasonable tally of those who expect to participate I will create and distribute maps of “territories” for the count day.\nOne thing we all can do in Covid times is get outdoors!\nAllen
URL:https://sevenmountainsaudubon.org/event/lewisburg-christmas-bird-count/
END:VEVENT
BEGIN:VEVENT
DTSTART;TZID=America/Halifax:20211215T190000
DTEND;TZID=America/Halifax:20211215T210000
DTSTAMP:20260423T181643
CREATED:20211208T203710Z
LAST-MODIFIED:20211208T203739Z
UID:439-1639594800-1639602000@sevenmountainsaudubon.org
SUMMARY:December Show and Tell
DESCRIPTION:Wednesday\, December 15\, 2021 AT 7 PM \nSeven Mountains Audubon invite all to December meeting which is Show and Tell. Meeting was successful last year on Zoom so will be done again at 7 pm on Wednesday December 15th. As is our tradition\, we will share all types of nature related items – including photos\, books\, etc. If you have items to share write to Kay Cramer at falconrider1@ymail.com and also if intend to attend and have not before write to her to get the link for Zoom. All are welcome.
URL:https://sevenmountainsaudubon.org/event/december-show-and-tell/
END:VEVENT
BEGIN:VEVENT
DTSTART;TZID=America/Halifax:20211117T190000
DTEND;TZID=America/Halifax:20211117T210000
DTSTAMP:20260423T181643
CREATED:20211101T181723Z
LAST-MODIFIED:20211115T235902Z
UID:429-1637175600-1637182800@sevenmountainsaudubon.org
SUMMARY:Cancelled Event! Wednesday\, November 17 Presentation
DESCRIPTION:The virtual monthly presentation “Healing Waters That Heal Others” scheduled for Wednesday\, November 17 at 7PM has been canceled! It may be rescheduled at a later date.
URL:https://sevenmountainsaudubon.org/event/healing-waters-that-heal-others/
CATEGORIES:Monthly Presentation
END:VEVENT
END:VCALENDAR