BEGIN:VCALENDAR
VERSION:2.0
PRODID:-//Seven Mountains - ECPv6.15.13//NONSGML v1.0//EN
CALSCALE:GREGORIAN
METHOD:PUBLISH
X-ORIGINAL-URL:https://sevenmountainsaudubon.org
X-WR-CALDESC:Events for Seven Mountains
REFRESH-INTERVAL;VALUE=DURATION:PT1H
X-Robots-Tag:noindex
X-PUBLISHED-TTL:PT1H
BEGIN:VTIMEZONE
TZID:America/Halifax
BEGIN:DAYLIGHT
TZOFFSETFROM:-0400
TZOFFSETTO:-0300
TZNAME:ADT
DTSTART:20220313T060000
END:DAYLIGHT
BEGIN:STANDARD
TZOFFSETFROM:-0300
TZOFFSETTO:-0400
TZNAME:AST
DTSTART:20221106T050000
END:STANDARD
BEGIN:DAYLIGHT
TZOFFSETFROM:-0400
TZOFFSETTO:-0300
TZNAME:ADT
DTSTART:20230312T060000
END:DAYLIGHT
BEGIN:STANDARD
TZOFFSETFROM:-0300
TZOFFSETTO:-0400
TZNAME:AST
DTSTART:20231105T050000
END:STANDARD
BEGIN:DAYLIGHT
TZOFFSETFROM:-0400
TZOFFSETTO:-0300
TZNAME:ADT
DTSTART:20240310T060000
END:DAYLIGHT
BEGIN:STANDARD
TZOFFSETFROM:-0300
TZOFFSETTO:-0400
TZNAME:AST
DTSTART:20241103T050000
END:STANDARD
END:VTIMEZONE
BEGIN:VEVENT
DTSTART;TZID=America/Halifax:20230415T080000
DTEND;TZID=America/Halifax:20230415T100000
DTSTAMP:20260425T094621
CREATED:20230330T192008Z
LAST-MODIFIED:20230330T193710Z
UID:537-1681545600-1681552800@sevenmountainsaudubon.org
SUMMARY:April Saturday Bird Walk (Allenwood Game Lands)
DESCRIPTION:Saturday\, April 15\, 2023: Meet at 8AM \nThis is the rescheduled April monthly Saturday bird walk\, originally scheduled for Saturday\, April 1. We decided to reschedule the bird walk because the forecast of rain will likely leave the trails flooded. The walk will be led by Michael McGuire. \nThis is a good location for migrating water\, wading\, and shore birds with several low lying ponds and wetland areas. The ponds can also be good places to see osprey and bald eagles. The osprey in the picture is from April 2019. By mid-April\, we should also start to see some migrating warblers. \nTrails are low lying and can often be wet. Water proof boots are suggested. Also expect ticks and dress and prepare accordingly. \nPlease follow directions below carefully. This location can be hard to find. \nGo west on Rt 44 off of Rt 15 at Allenwood about 4.3 miles. Turn north (right) on Mill Rd. Follow Mill Rd north until 1.4 miles until it ends at Alvira Rd. Turn east (right) on Alvira Rd and drive .55 miles until reaching the parking lot on the north (left) side of the road where we will begin our bird walk. Note that Alvira Rd is now gated off after (east of) this parking lot. This means it is no longer possible to drive to this location from the other direction. These are the GPS coordinates of the parking lot/meeting location 41° 8’10.55″N \, 76°57’33.36″W \n \n \nApril 2019\, photo credit © Michael McGuire
URL:https://sevenmountainsaudubon.org/event/april-saturday-bird-walk-allenwood-game-lands/
LOCATION:Allenwood Game Lands
END:VEVENT
BEGIN:VEVENT
DTSTART;TZID=America/Halifax:20230419T190000
DTEND;TZID=America/Halifax:20230519T210000
DTSTAMP:20260425T094621
CREATED:20230407T211626Z
LAST-MODIFIED:20230408T184854Z
UID:543-1681930800-1684530000@sevenmountainsaudubon.org
SUMMARY:Birding in Alaska
DESCRIPTION:Wednesday\, April 19 at 7PM. \nLauri Shaffer will discuss her recent experience birding in Alaska. The presentation will be in the Kelly Township Municipal building (551 Zeigler Rd) and also be live-streamed with Facebook live.
URL:https://sevenmountainsaudubon.org/event/birding-in-alaska-2/
LOCATION:Kelly Township Building (551 Zeigler RD)\, 551 Zeigler RD\, Lewisburg\, PA\, 17837
END:VEVENT
END:VCALENDAR