BEGIN:VCALENDAR
VERSION:2.0
PRODID:-//Seven Mountains - ECPv6.15.13//NONSGML v1.0//EN
CALSCALE:GREGORIAN
METHOD:PUBLISH
X-ORIGINAL-URL:https://sevenmountainsaudubon.org
X-WR-CALDESC:Events for Seven Mountains
REFRESH-INTERVAL;VALUE=DURATION:PT1H
X-Robots-Tag:noindex
X-PUBLISHED-TTL:PT1H
BEGIN:VTIMEZONE
TZID:America/Halifax
BEGIN:DAYLIGHT
TZOFFSETFROM:-0400
TZOFFSETTO:-0300
TZNAME:ADT
DTSTART:20220313T060000
END:DAYLIGHT
BEGIN:STANDARD
TZOFFSETFROM:-0300
TZOFFSETTO:-0400
TZNAME:AST
DTSTART:20221106T050000
END:STANDARD
BEGIN:DAYLIGHT
TZOFFSETFROM:-0400
TZOFFSETTO:-0300
TZNAME:ADT
DTSTART:20230312T060000
END:DAYLIGHT
BEGIN:STANDARD
TZOFFSETFROM:-0300
TZOFFSETTO:-0400
TZNAME:AST
DTSTART:20231105T050000
END:STANDARD
BEGIN:DAYLIGHT
TZOFFSETFROM:-0400
TZOFFSETTO:-0300
TZNAME:ADT
DTSTART:20240310T060000
END:DAYLIGHT
BEGIN:STANDARD
TZOFFSETFROM:-0300
TZOFFSETTO:-0400
TZNAME:AST
DTSTART:20241103T050000
END:STANDARD
END:VTIMEZONE
BEGIN:VEVENT
DTSTART;TZID=America/Halifax:20231220T190000
DTEND;TZID=America/Halifax:20231220T210000
DTSTAMP:20260424T233508
CREATED:20231211T212043Z
LAST-MODIFIED:20231211T212406Z
UID:593-1703098800-1703106000@sevenmountainsaudubon.org
SUMMARY:December Show and Tell and 50th Anniversary Celebration of Seven Mountains Audubon
DESCRIPTION:Wednesday\, December 20\, 2023 AT 7 PM\n589 Fairground Rd\, Lewisburg\, PA\n\nGreetings everyone – It’s the time of year for us to gather for our Holiday Show-and-Tell program which will be held on Wednesday\, December 20th. The meeting begins at 7:00 pm\, but the doors will be open earlier.\nAs is our tradition\, we will share all sorts of nature-related items – photographs\, books\, poems\, quotes\, crafts or whatever else you can imagine! We hope you will bring something to share with our group. If you prefer not to\, still come and enjoy the camaraderie of the season. If you have photographs to share\, please try to arrive by around 6:30 so that picture files can be loaded on the computer in advance.\nWe are excited to mark Seven Mountains Audubon’s 50th anniversary at this meeting. As a special treat Allen and Joanne Schweinsberg will be with us to share their memories of the history of our chapter. They were involved almost from the start having taken over the Christmas Bird count in 1974! All are welcome and encouraged to share their own memories and highlights from their connection to Seven Mountain’s first half-century.\nAs part of our refreshments we will have a special sheet cake decorated with the Seven Mountain’s logo and some bird photos. We will have other refreshments too so plan to stay afterward and visit awhile.\nJoin us at our New meeting location\, the East Buffalo Township building\, 589 Fairground Road\, Lewisburg. Everyone is welcome to this free event and please feel free to come and bring a friend or two.\nHappy Holidays – see you on the 20th!\n\n\n 
URL:https://sevenmountainsaudubon.org/event/december-show-and-tell-and-50th-anniversary-celebration-of-seven-mountains-audubon/
LOCATION:East Buffalo Township Municipal Building\, 589 Fairground Road\, Lewisburg\, PA\, 7837\, United States
END:VEVENT
END:VCALENDAR