BEGIN:VCALENDAR
VERSION:2.0
PRODID:-//Seven Mountains - ECPv6.15.13//NONSGML v1.0//EN
CALSCALE:GREGORIAN
METHOD:PUBLISH
X-ORIGINAL-URL:https://sevenmountainsaudubon.org
X-WR-CALDESC:Events for Seven Mountains
REFRESH-INTERVAL;VALUE=DURATION:PT1H
X-Robots-Tag:noindex
X-PUBLISHED-TTL:PT1H
BEGIN:VTIMEZONE
TZID:America/Halifax
BEGIN:DAYLIGHT
TZOFFSETFROM:-0400
TZOFFSETTO:-0300
TZNAME:ADT
DTSTART:20230312T060000
END:DAYLIGHT
BEGIN:STANDARD
TZOFFSETFROM:-0300
TZOFFSETTO:-0400
TZNAME:AST
DTSTART:20231105T050000
END:STANDARD
BEGIN:DAYLIGHT
TZOFFSETFROM:-0400
TZOFFSETTO:-0300
TZNAME:ADT
DTSTART:20240310T060000
END:DAYLIGHT
BEGIN:STANDARD
TZOFFSETFROM:-0300
TZOFFSETTO:-0400
TZNAME:AST
DTSTART:20241103T050000
END:STANDARD
BEGIN:DAYLIGHT
TZOFFSETFROM:-0400
TZOFFSETTO:-0300
TZNAME:ADT
DTSTART:20250309T060000
END:DAYLIGHT
BEGIN:STANDARD
TZOFFSETFROM:-0300
TZOFFSETTO:-0400
TZNAME:AST
DTSTART:20251102T050000
END:STANDARD
BEGIN:DAYLIGHT
TZOFFSETFROM:-0400
TZOFFSETTO:-0300
TZNAME:ADT
DTSTART:20260308T060000
END:DAYLIGHT
BEGIN:STANDARD
TZOFFSETFROM:-0300
TZOFFSETTO:-0400
TZNAME:AST
DTSTART:20261101T050000
END:STANDARD
END:VTIMEZONE
BEGIN:VEVENT
DTSTART;TZID=America/Halifax:20241218T190000
DTEND;TZID=America/Halifax:20241218T210000
DTSTAMP:20260424T081822
CREATED:20241214T135926Z
LAST-MODIFIED:20241214T135926Z
UID:678-1734548400-1734555600@sevenmountainsaudubon.org
SUMMARY:December Show & Tell
DESCRIPTION:Wednesday\, December 18th 7PM\n\nGreetings everyone – It’s the time of year for us to gather for our Holiday Show-and-Tell program which will be held on Wednesday\, December 18th. The meeting begins at 7:00 pm\, but the doors will be open earlier.\n\nAs is our tradition\, we will share all sorts of nature-related items – photographs\, books\, poems\, quotes\, crafts or whatever else you can imagine! We hope you will bring something to share with our group. If you prefer not to\, still come and enjoy the camaraderie of the season. If you have photographs to share\, please try to arrive by around 6:30 so that picture files can be loaded on the computer in advance.\n\nWe will have holiday refreshments too so plan to stay afterward and visit awhile.\n\nJoin us at our meeting location\, the East Buffalo Township building\, 589 Fairground Road\, Lewisburg. We will continue to stream this and other in person presentations on Facebook Live. Everyone is welcome to this free event and please feel free to come and bring a friend or two.\nHappy Holidays – see you on the 18th! \n\n\n 
URL:https://sevenmountainsaudubon.org/event/december-show-tell-2/
LOCATION:East Buffalo Township Municipal Building\, 589 Fairground Road\, Lewisburg\, PA\, 7837\, United States
END:VEVENT
BEGIN:VEVENT
DTSTART;TZID=America/Halifax:20241230T083000
DTEND;TZID=America/Halifax:20250104T113000
DTSTAMP:20260424T081822
CREATED:20241230T213659Z
LAST-MODIFIED:20250104T023337Z
UID:681-1735547400-1735990200@sevenmountainsaudubon.org
SUMMARY:CANCELLED! First Saturday Bird Walk at Glacial Pools Preserve
DESCRIPTION:CANCELLED! Please note this event has now been cancelled!\n \nJessie Sauder is the Walk Leader. Becky Stugart is the Trail Guide. \n757 Pine Tree Rd\, Hughesville\, PA 17737-8884
URL:https://sevenmountainsaudubon.org/event/first-saturday-bird-walk-at-glacial-pools-preserve/
LOCATION:Glacial Pools Preserve\, 757 Pine Tree Rd\, Hughesville\, PA\, 17737-8884\, United States
END:VEVENT
END:VCALENDAR