BEGIN:VCALENDAR
VERSION:2.0
PRODID:-//Seven Mountains - ECPv6.15.13//NONSGML v1.0//EN
CALSCALE:GREGORIAN
METHOD:PUBLISH
X-WR-CALNAME:Seven Mountains
X-ORIGINAL-URL:https://sevenmountainsaudubon.org
X-WR-CALDESC:Events for Seven Mountains
REFRESH-INTERVAL;VALUE=DURATION:PT1H
X-Robots-Tag:noindex
X-PUBLISHED-TTL:PT1H
BEGIN:VTIMEZONE
TZID:America/Halifax
BEGIN:DAYLIGHT
TZOFFSETFROM:-0400
TZOFFSETTO:-0300
TZNAME:ADT
DTSTART:20240310T060000
END:DAYLIGHT
BEGIN:STANDARD
TZOFFSETFROM:-0300
TZOFFSETTO:-0400
TZNAME:AST
DTSTART:20241103T050000
END:STANDARD
BEGIN:DAYLIGHT
TZOFFSETFROM:-0400
TZOFFSETTO:-0300
TZNAME:ADT
DTSTART:20250309T060000
END:DAYLIGHT
BEGIN:STANDARD
TZOFFSETFROM:-0300
TZOFFSETTO:-0400
TZNAME:AST
DTSTART:20251102T050000
END:STANDARD
BEGIN:DAYLIGHT
TZOFFSETFROM:-0400
TZOFFSETTO:-0300
TZNAME:ADT
DTSTART:20260308T060000
END:DAYLIGHT
BEGIN:STANDARD
TZOFFSETFROM:-0300
TZOFFSETTO:-0400
TZNAME:AST
DTSTART:20261101T050000
END:STANDARD
END:VTIMEZONE
BEGIN:VEVENT
DTSTART;TZID=America/Halifax:20250503T080000
DTEND;TZID=America/Halifax:20250503T100000
DTSTAMP:20260424T011957
CREATED:20250427T144625Z
LAST-MODIFIED:20250427T144625Z
UID:730-1746259200-1746266400@sevenmountainsaudubon.org
SUMMARY:May First Saturday Bird Walk (United States Penitentiary\, Lewisburg)
DESCRIPTION:Saturday\, May 3\, 2025 at 8AM \nEVERYONE IS INVITEDDon’t get lost! Go through the Front Gate and take the very first left. When you come to a  stop at a “Y” take another left. This will take you down along Buffalo Creek to the Training Center parking lot.\nWe usually can expect to see some warblers\, Red-headed Woodpeckers\, both Baltimore Orioles and Orchard Orioles\, various ducks\, eagles\, and other song birds.\n\nUnited States Penitentiary\n\n\n\n\n\n\n\n2400 Robert F Miller Dr\, Lewisburg\, PA
URL:https://sevenmountainsaudubon.org/event/may-first-saturday-bird-walk-united-states-penitentiary-lewisburg/
CATEGORIES:Bird Walk
END:VEVENT
BEGIN:VEVENT
DTSTART;TZID=America/Halifax:20250521T190000
DTEND;TZID=America/Halifax:20250521T210000
DTSTAMP:20260424T011957
CREATED:20250427T144253Z
LAST-MODIFIED:20250427T144253Z
UID:728-1747854000-1747861200@sevenmountainsaudubon.org
SUMMARY:May Educational Meeting - Dermatology for Birders by Dr. Eric Hossler
DESCRIPTION:Wednesday May 21\, 25 at 7PM \nDr. Eric Hossler will present an illustration and discussion of dermatologic conditions of potential importance to Birders\, including Lyme Disease and other skin rashes. In addition to domestic birding\, the presentation will also include some conditions like Leishmaniasis and Myiasis that could be encountered on birding trips to Central and South America or other tropical locations. The intent is inform\, not alarm you. Dr Hossler is the Director of the Geisinger Dermatology Residency Program which includes 12 Residents in Training. He is a Board-Certified Dermatologist and Dermatopathologist. \n789 Fairground Rd\, Lewisburg\, PA 17837
URL:https://sevenmountainsaudubon.org/event/may-educational-meeting-dermatology-for-birders-by-dr-eric-hossler/
LOCATION:East Buffalo Township Municipal Building\, 589 Fairground Road\, Lewisburg\, PA\, 7837\, United States
CATEGORIES:Monthly Presentation
END:VEVENT
BEGIN:VEVENT
DTSTART;TZID=America/Halifax:20250531T080000
DTEND;TZID=America/Halifax:20250531T100000
DTSTAMP:20260424T011957
CREATED:20250518T234448Z
LAST-MODIFIED:20250518T234448Z
UID:735-1748678400-1748685600@sevenmountainsaudubon.org
SUMMARY:Re-scheduled Bird Walk at Jeremy Napp Farm (May 31)
DESCRIPTION:Saturday May 31\, 2025 at 8AM \nRe-scheduled previously rained out Bird Walk. This is a new location hosted by Jeremy Napp and Juliana Brafa at Jeremy Napp’s Farm. The Walk Leader is Jessica Sauder. \n2052 Felmey Rd\, Winfield\, PA 17889\, United States
URL:https://sevenmountainsaudubon.org/event/re-scheduled-bird-walk-at-jeremy-napp-farm-may-31/
END:VEVENT
END:VCALENDAR